Workbook

Sheet KG
A1: Datum | B1: Gewicht | C1: Abnahme | D1: Hüfte | E1: Bauch | F1: abgenommen: | G1: =B30 -> 22.1
A2: 44083 | B2: 128.6 | C2: 0 | D2: 138 | E2: 141
A3: 44090 | B3: 125.8 | C3: =IF(B3=0,"",B2-B3) -> 2.8 | D3: 137.4 | E3: 140.4
A4: 44097 | B4: 124.1 | C4: =IF(B4=0,"",B3-B4) -> 1.7 | D4: 135.4 | E4: 138.4
A5: 44104 | B5: 122.1 | C5: =IF(B5=0,"",B4-B5) -> 2 | D5: 133.2 | E5: 137.5
A6: 44111 | B6: 123.2 | C6: =IF(B6=0,"",B5-B6) -> -1.1 | D6: 131.8 | E6: 139.6
A7: 44118 | B7: 118.6 | C7: =IF(B7=0,"",B6-B7) -> 4.6 | D7: 134.1 | E7: 139.1
A8: 44125 | B8: 116 | C8: =IF(B8=0,"",B7-B8) -> 2.6 | D8: 130 | E8: 134
A9: 44132 | B9: 114.4 | C9: =IF(B9=0,"",B8-B9) -> 1.6 | D9: 127 | E9: 134
A10: 44139 | B10: 112.5 | C10: =IF(B10=0,"",B9-B10) -> 1.9 | D10: 127 | E10: 132.1
A11: 44146 | B11: 111.5 | C11: =IF(B11=0,"",B10-B11) -> 1 | D11: 125 | E11: 128.5
A12: 44153 | B12: 112.7 | C12: =IF(B12=0,"",B11-B12) -> -1.2 | D12: 126.5 | E12: 129.6
A13: 44160 | B13: 109.9 | C13: =IF(B13=0,"",B12-B13) -> 2.8 | D13: 126.7 | E13: 128.7
A14: 44167 | B14: 108.9 | C14: =IF(B14=0,"",B13-B14) -> 1 | D14: 121.5 | E14: 126
... A19: 44202 | B19: 106.5 | C19: =IF(B19=0,"",B18-B19) -> 0.1 | D19: 125.6 | E19: 126.1
A20: 44209 | C20: =IF(B20=0,"",B19-B20)
A21: 44216 | C21: =IF(B21=0,"",B20-B21)
A22: 44223 | C22: =IF(B22=0,"",B21-B22)
A23: 44230 | C23: =IF(B23=0,"",B22-B23)
A24: 44237 | C24: =IF(B24=0,"",B23-B24)
A25: 44244 | C25: =IF(B25=0,"",B24-B25)
A26: 44251 | C26: =IF(B26=0,"",B25-B26)
A27: 44258 | C27: =IF(B27=0,"",B26-B27)
A28: 44265 | C28: =IF(B28=0,"",B27-B28)
A29: 44272 | C29: =IF(B29=0,"",B28-B29)
A30: Gesamt: | B30: =SUM(C2:C29) -> 22.1
A31: Durchschnitt: | B31: =B30/(COUNT(C2:C29)-1) -> 1.3

Sheet Diagramm

Sheet Mz_20210106
A2: Name: | B2: Dieter Ascheberg | E2: 43836
A3: Arbeitsblatt für die | B3: 3 | C3: Stabilisierungswoche | E3: Datum
A4: mit | B4: 0 | C4: Tüten pro Tag
A5: Wochentag / Datum | B5: Frühstück | C5: Mittagessen | D5: Abendbrot | E5: zwischendurch
A6: Mittwoch | B6: Porridge | C6: Kartoffeln | D6: ETA | E6: Tee, Wasser
A7: Datum | C7: Ei, Mettwurst | D7: Clementine | E7: ColaMix
A8: 43836 | D8: Radieschen
A9: (Datum nur in dem
A10: obigen Feld eintragen) | B10: 206 | C10: 466 | D10: 280 | E10: =SUM(B10:D10) -> 952
A11: Donnerstag | B11: Porridge | C11: Frikadelle | D11: ETA | E11: Tee, Wasser
A12: Datum | C12: Kartoffeln | D12: Riegel | E12: ColaMix
A13: =A8+1 -> 43837 | C13: Kohlrabi/Wurzel
C14: Milch, Mehl
B15: 206 | C15: 472 | D15: 335 | E15: =SUM(B15:D15) -> 1013
A16: Freitag | B16: Porridge | C16: Sauerkraut | D16: ETA | E16: Tee, Wasser
A17: Datum | C17: Kartoffeln | E17: ColaMix
A18: =A13+1 -> 43838 | C18: Mettende
B20: 206 | C20: 520 | D20: 225 | E20: =SUM(B20:D20) -> 951
A21: Samstag | B21: Brötchen | C21: Hühnersuppe | D21: Rindertartar | E21: Tee, Wasser
A22: Datum | B22: Butter, Käse | C22: halbes Brötchen | D22: ETA + Svhwarzbrot | E22: ColaMix
A23: =A18+1 -> 43839 | B23: Rindertartar
B25: 403 | C25: 243 | D25: 330 | E25: =SUM(B25:D25) -> 976
A26: Sonntag | B26: Vollkornbrötchen | D26: Entenbrust mit | E26: Tee, Wasser
A27: Datum | B27: Butter, Käse, | D27: Rotkohl | E27: ColaMix
A28: =A23+1 -> 43840 | B28: Ei, Krabbensalat | E28: Spaziergang 2 St.
B30: 457 | D30: 666 | E30: =SUM(B30:D30) -> 1123
A31: Montag | E31: Tee, Wasser
A32: Datum | E32: ColaMix
A33: =A28+1 -> 43841
E35: =SUM(B35:D35) -> 0
A36: Dienstag | E36: Tee, Wasser
A37: Datum | E37: ColaMix
A38: =A33+1 -> 43842
E40: =SUM(B40:D40) -> 0

Sheet kval_Basic_20210106
A1: Auswählen | B1: Nicht vergessen in das blaue Feld das gewünschte Datum einzugeben!
A2: 1 | B2: =VLOOKUP($A$2,Htab!$C$2:$K$7,3) -> 440 | E2: =VLOOKUP($A$2,Htab!$C$2:$K$7,4) -> 140 | G2: =VLOOKUP($A$2,Htab!$C$2:$K$7,5) -> 150 | I2: =VLOOKUP($A$2,Htab!$C$2:$K$7,6) -> 160 | K2: =VLOOKUP($A$2,Htab!$C$2:$K$7,7) -> 140 | M2: =VLOOKUP($A$2,Htab!$C$2:$K$7,8) -> 160 | O2: =VLOOKUP($A$2,Htab!$C$2:$K$7,9) -> 60 | Q2: Kcal
A3: =TEXT(A4,"TTTT") -> Mittwoch | B3: Brot / Nudeln / Getr. | E3: Gemüse | G3: Obst | I3: Käse / Milch | K3: Fisch / Fleisch | M3: Fett / Öl | O3: Süßes | Q3: =SUM(B2:P2) -> 1250
A4: 44202
A5: Morgens | B5: 205 | Q5: Gesamt
A6: Mittags | B6: 109 | I6: 199 | K6: 158
A7: Nachmittags | Q7: =SUM(B10:P10) -> 993
A8: Abends | B8: 191 | E8: 33 | G8: 37 | K8: 24 | M8: 37
A9: Naschen
A10: Gesamt | B10: =SUM(B5:D9) -> 505 | E10: =SUM(E5:F9) -> 33 | G10: =SUM(G5:H9) -> 37 | I10: =SUM(I5:J9) -> 199 | K10: =SUM(K5:L9) -> 182 | M10: =SUM(M5:N9) -> 37 | O10: =SUM(O5:P9) -> 0
A11: ="Zuwenig / Zuviel bei " & VLOOKUP($A$2,Htab!$C$2:$K$7,2) & " kcal" -> Zuwenig / Zuviel bei 1250 kcal | B11: =B10-B2 -> 65 | E11: =E10-E2 -> -107 | G11: =G10-G2 -> -113 | I11: =I10-I2 -> 39 | K11: =K10-K2 -> 42 | M11: =M10-M2 -> -123 | O11: =O10-O2 -> -60
A13: Auswählen
A14: 1 | B14: =VLOOKUP($A14,Htab!$C$2:$K$7,3) -> 440 | E14: =VLOOKUP($A14,Htab!$C$2:$K$7,4) -> 140 | G14: =VLOOKUP($A14,Htab!$C$2:$K$7,5) -> 150 | I14: =VLOOKUP($A14,Htab!$C$2:$K$7,6) -> 160 | K14: =VLOOKUP($A14,Htab!$C$2:$K$7,7) -> 140 | M14: =VLOOKUP($A14,Htab!$C$2:$K$7,8) -> 160 | O14: =VLOOKUP($A14,Htab!$C$2:$K$7,9) -> 60 | Q14: Kcal
A15: =TEXT(A16,"TTTT") -> Donnerstag | B15: Brot / Nudeln / Getr. | E15: Gemüse | G15: Obst | I15: Käse / Milch | K15: Fisch / Fleisch | M15: Fett / Öl | O15: Süßes | Q15: =SUM(B14:P14) -> 1250
A16: =A4+1 -> 44203
A17: Morgens | B17: 205 | Q17: Gesamt
A18: Mittags | B18: 150 | E18: 110 | I18: 35 | K18: 176
A19: Nachmittags | Q19: =SUM(B22:P22) -> 1011
A20: Abends | B20: 150 | E20: 33 | K20: 24 | M20: 37
A21: Naschen | B21: 91
A22: Gesamt | B22: =SUM(B17:D21) -> 596 | E22: =SUM(E17:F21) -> 143 | G22: =SUM(G17:H21) -> 0 | I22: =SUM(I17:J21) -> 35 | K22: =SUM(K17:L21) -> 200 | M22: =SUM(M17:N21) -> 37 | O22: =SUM(O17:P21) -> 0
A23: ="Zuwenig / Zuviel bei " & VLOOKUP($A14,Htab!$C$2:$K$7,2) & " kcal" -> Zuwenig / Zuviel bei 1250 kcal | B23: =B22-B14 -> 156 | E23: =E22-E14 -> 3 | G23: =G22-G14 -> -150 | I23: =I22-I14 -> -125 | K23: =K22-K14 -> 60 | M23: =M22-M14 -> -123 | O23: =O22-O14 -> -60
A25: Auswählen
A26: 1 | B26: =VLOOKUP($A26,Htab!$C$2:$K$7,3) -> 440 | E26: =VLOOKUP($A26,Htab!$C$2:$K$7,4) -> 140 | G26: =VLOOKUP($A26,Htab!$C$2:$K$7,5) -> 150 | I26: =VLOOKUP($A26,Htab!$C$2:$K$7,6) -> 160 | K26: =VLOOKUP($A26,Htab!$C$2:$K$7,7) -> 140 | M26: =VLOOKUP($A26,Htab!$C$2:$K$7,8) -> 160 | O26: =VLOOKUP($A26,Htab!$C$2:$K$7,9) -> 60 | Q26: Kcal
A27: =TEXT(A28,"TTTT") -> Freitag | B27: Brot / Nudeln / Getr. | E27: Gemüse | G27: Obst | I27: Käse / Milch | K27: Fisch / Fleisch | M27: Fett / Öl | O27: Süßes | Q27: =SUM(B26:P26) -> 1250
A28: =A16+1 -> 44204
A29: Morgens | B29: 205 | Q29: Gesamt
A30: Mittags | B30: 109 | E30: 62 | K30: 349
A31: Nachmittags | Q31: =SUM(B34:P34) -> 950
A32: Abends | B32: 56 | E32: 33 | I32: 75 | K32: 24 | M32: 37
A33: Naschen
A34: Gesamt | B34: =SUM(B29:D33) -> 370 | E34: =SUM(E29:F33) -> 95 | G34: =SUM(G29:H33) -> 0 | I34: =SUM(I29:J33) -> 75 | K34: =SUM(K29:L33) -> 373 | M34: =SUM(M29:N33) -> 37 | O34: =SUM(O29:P33) -> 0
A35: ="Zuwenig / Zuviel bei " & VLOOKUP($A26,Htab!$C$2:$K$7,2) & " kcal" -> Zuwenig / Zuviel bei 1250 kcal | B35: =B34-B26 -> -70 | E35: =E34-E26 -> -45 | G35: =G34-G26 -> -150 | I35: =I34-I26 -> -85 | K35: =K34-K26 -> 233 | M35: =M34-M26 -> -123 | O35: =O34-O26 -> -60
A37: Auswählen
A38: 1 | B38: =VLOOKUP($A38,Htab!$C$2:$K$7,3) -> 440 | E38: =VLOOKUP($A38,Htab!$C$2:$K$7,4) -> 140 | G38: =VLOOKUP($A38,Htab!$C$2:$K$7,5) -> 150 | I38: =VLOOKUP($A38,Htab!$C$2:$K$7,6) -> 160 | K38: =VLOOKUP($A38,Htab!$C$2:$K$7,7) -> 140 | M38: =VLOOKUP($A38,Htab!$C$2:$K$7,8) -> 160 | O38: =VLOOKUP($A38,Htab!$C$2:$K$7,9) -> 60 | Q38: Kcal
A39: =TEXT(A40,"TTTT") -> Samstag | B39: Brot / Nudeln / Getr. | E39: Gemüse | G39: Obst | I39: Käse / Milch | K39: Fisch / Fleisch | M39: Fett / Öl | O39: Süßes | Q39: =SUM(B38:P38) -> 1250
A40: =A28+1 -> 44205
A41: Morgens | B41: 171 | I41: 102 | K41: 19 | M41: 111 | Q41: Gesamt
A42: Mittags
A43: Nachmittags | B43: 152 | E43: 40 | K43: 40 | M43: 10 | Q43: =SUM(B46:P46) -> 974
...

Sheet kcal_Basic_20200106
A1: Mit x in der ersten Spalte auswählen | C1: Brot / Nudeln / Getr. | F1: Gem. | H1: Obst | J1: Käse / Milch | L1: Fisch / Fleisch | N1: Fett / Öl | P1: Süßes
A2: x | B2: =IF(SUM(C2:Q2)<>1250,"Fehler",SUM(C2:Q2)) -> 1250 | C2: 440 | F2: 140 | H2: 150 | J2: 160 | L2: 140 | N2: 160 | P2: 60
B3: =IF(SUM(C3:Q3)<>1500,"Fehler",SUM(C3:Q3)) -> 1500 | C3: 530 | F3: 180 | H3: 170 | J3: 190 | L3: 160 | N3: 200 | P3: 70
B4: =IF(SUM(C4:Q4)<>1750,"Fehler",SUM(C4:Q4)) -> 1750 | C4: 600 | F4: 190 | H4: 180 | J4: 210 | L4: 170 | N4: 240 | P4: 160
B5: =IF(SUM(C5:Q5)<>2000,"Fehler",SUM(C5:Q5)) -> 2000 | C5: 680 | F5: 200 | H5: 200 | J5: 240 | L5: 200 | N5: 280 | P5: 200
B6: =IF(SUM(C6:Q6)<>2250,"Fehler",SUM(C6:Q6)) -> 2250 | C6: 770 | F6: 230 | H6: 230 | J6: 270 | L6: 220 | N6: 310 | P6: 220
B7: =IF(SUM(C7:Q7)<>2500,"Fehler",SUM(C7:Q7)) -> 2500 | C7: 850 | F7: 250 | H7: 250 | J7: 300 | L7: 250 | N7: 350 | P7: 250
A9: Nicht vergessen in das blaue Feld das gewünschte Datum einzugeben!
A10: =TEXT(A11,"TTTT") -> Mittwoch | B10: Brot / Nudeln / Getr. | E10: Gem. | G10: Obst | I10: Käse / Milch | K10: Fisch / Fleisch | M10: Fett / Öl | O10: Süßes | Q10: =A11 -> 44202
A11: 44202 | Q11: =WEEKDAY(Q10) -> 4
A12: =VLOOKUP("x",$A$2:$B$7,2) -> 1250 | B12: =VLOOKUP("x",$A$2:$P$7,3) -> 440 | E12: =VLOOKUP("x",$A$2:$P$7,6) -> 140 | G12: =VLOOKUP("x",$A$2:$P$7,8) -> 150 | I12: =VLOOKUP("x",$A$2:$P$7,10) -> 160 | K12: =VLOOKUP("x",$A$2:$P$7,12) -> 140 | M12: =VLOOKUP("x",$A$2:$P$7,14) -> 160 | O12: =VLOOKUP("x",$A$2:$P$7,16) -> 60
A13: Morgens | B13: 205 | Q13: ="GESAMT: " & SUM(B18:P18) -> GESAMT: 993
A14: Mittags | B14: 109 | I14: 199 | K14: 158
A15: Nachmittags
A16: Abends | B16: 191 | E16: 33 | G16: 37 | K16: 24 | M16: 37
A17: Naschen
A18: Gesamt | B18: =SUM(B13:D17) -> 505 | E18: =SUM(E13:F17) -> 33 | G18: =SUM(G13:H17) -> 37 | I18: =SUM(I13:J17) -> 199 | K18: =SUM(K13:L17) -> 182 | M18: =SUM(M13:N17) -> 37 | O18: =SUM(O13:P17) -> 0
A19: ="Zuwenig / Zuviel bei " & $A12 & " kcal" -> Zuwenig / Zuviel bei 1250 kcal | B19: =B18-B12 -> 65 | E19: =E18-E12 -> -107 | G19: =G18-G12 -> -113 | I19: =I18-I12 -> 39 | K19: =K18-K12 -> 42 | M19: =M18-M12 -> -123 | O19: =O18-O12 -> -60
A21: =TEXT(A22,"TTTT") -> Donnerstag | B21: Brot / Nudeln / Getr. | E21: Gem. | G21: Obst | I21: Käse / Milch | K21: Fisch / Fleisch | M21: Fett / Öl | O21: Süßes | Q21: =A22 -> 44203
A22: =A11+1 -> 44203 | Q22: =WEEKDAY(Q21) -> 5
A23: =VLOOKUP("x",$A$2:$B$7,2) -> 1250 | B23: =VLOOKUP("x",$A$2:$P$7,3) -> 440 | E23: =VLOOKUP("x",$A$2:$P$7,6) -> 140 | G23: =VLOOKUP("x",$A$2:$P$7,8) -> 150 | I23: =VLOOKUP("x",$A$2:$P$7,10) -> 160 | K23: =VLOOKUP("x",$A$2:$P$7,12) -> 140 | M23: =VLOOKUP("x",$A$2:$P$7,14) -> 160 | O23: =VLOOKUP("x",$A$2:$P$7,16) -> 60
A24: Morgens | B24: 205 | Q24: ="GESAMT: " & SUM(B29:P29) -> GESAMT: 1011
A25: Mittags | B25: 150 | E25: 110 | I25: 35 | K25: 176
A26: Nachmittags
A27: Abends | B27: 150 | E27: 33 | K27: 24 | M27: 37
A28: Naschen | B28: 91
A29: Gesamt | B29: =SUM(B24:D28) -> 596 | E29: =SUM(E24:F28) -> 143 | G29: =SUM(G24:H28) -> 0 | I29: =SUM(I24:J28) -> 35 | K29: =SUM(K24:L28) -> 200 | M29: =SUM(M24:N28) -> 37 | O29: =SUM(O24:P28) -> 0
A30: ="Zuwenig / Zuviel bei " & $A23 & " kcal" -> Zuwenig / Zuviel bei 1250 kcal | B30: =B29-B23 -> 156 | E30: =E29-E23 -> 3 | G30: =G29-G23 -> -150 | I30: =I29-I23 -> -125 | K30: =K29-K23 -> 60 | M30: =M29-M23 -> -123 | O30: =O29-O23 -> -60
A32: =TEXT(A33,"TTTT") -> Freitag | B32: Brot / Nudeln / Getr. | E32: Gem. | G32: Obst | I32: Käse / Milch | K32: Fisch / Fleisch | M32: Fett / Öl | O32: Süßes | Q32: =A33 -> 44204
A33: =A22+1 -> 44204 | Q33: =WEEKDAY(Q32) -> 6
A34: =VLOOKUP("x",$A$2:$B$7,2) -> 1250 | B34: =VLOOKUP("x",$A$2:$P$7,3) -> 440 | E34: =VLOOKUP("x",$A$2:$P$7,6) -> 140 | G34: =VLOOKUP("x",$A$2:$P$7,8) -> 150 | I34: =VLOOKUP("x",$A$2:$P$7,10) -> 160 | K34: =VLOOKUP("x",$A$2:$P$7,12) -> 140 | M34: =VLOOKUP("x",$A$2:$P$7,14) -> 160 | O34: =VLOOKUP("x",$A$2:$P$7,16) -> 60
A35: Morgens | B35: 205 | Q35: ="GESAMT: " & SUM(B40:P40) -> GESAMT: 950
A36: Mittags | B36: 109 | E36: 62 | K36: 349
A37: Nachmittags
A38: Abends | B38: 56 | E38: 33 | I38: 75 | K38: 24 | M38: 37
A39: Naschen
A40: Gesamt | B40: =SUM(B35:D39) -> 370 | E40: =SUM(E35:F39) -> 95 | G40: =SUM(G35:H39) -> 0 | I40: =SUM(I35:J39) -> 75 | K40: =SUM(K35:L39) -> 373 | M40: =SUM(M35:N39) -> 37 | O40: =SUM(O35:P39) -> 0
A41: ="Zuwenig / Zuviel bei " & $A34 & " kcal" -> Zuwenig / Zuviel bei 1250 kcal | B41: =B40-B34 -> -70 | E41: =E40-E34 -> -45 | G41: =G40-G34 -> -150 | I41: =I40-I34 -> -85 | K41: =K40-K34 -> 233 | M41: =M40-M34 -> -123 | O41: =O40-O34 -> -60
A44: =TEXT(A45,"TTTT") -> Samstag | B44: Brot / Nudeln / Getr. | E44: Gem. | G44: Obst | I44: Käse / Milch | K44: Fisch / Fleisch | M44: Fett / Öl | O44: Süßes | Q44: =A45 -> 44205
A45: =A33+1 -> 44205 | Q45: =WEEKDAY(Q44) -> 7
...

Sheet Mz_20201230
A2: Name: | B2: Dieter Ascheberg | E2: 44195
A3: Arbeitsblatt für die | B3: 2 | C3: Stabilisierungswoche | E3: Datum
A4: mit | B4: 0 | C4: Tüten pro Tag
A5: Wochentag / Datum | B5: Frühstück | C5: Mittagessen | D5: Abendbrot | E5: zwischendurch
A6: Mittwoch | B6: Porridge | C6: Blumenkohl- | D6: Schwarzbrot, | E6: Tee, Wasser
A7: Datum | C7: auflauf | D7: Knäcke, Rinder- | E7: ColaMix
A8: 44195 | D8: tartar, Hüttenkäse | E8: 133/51/67
A9: (Datum nur in dem | E9: 141/59/70
A10: obigen Feld eintragen) | B10: 205 | C10: 411 | D10: 468 | E10: =SUM(B10:D10) -> 1084
A11: Donnerstag | B11: Porridge | C11: Eisbergsalat | D11: Rindertartar, Brot | E11: Wasser
A12: Datum | C12: Joghurt, Zitrone | D12: Zucchinisuppe | E12: ColaMix
A13: =A8+1 -> 44196 | C13: Ei, Schwarzbr. | D13: Lachs | E13: 124/58/66
C14: Schinken | D14: Rotwein mit+ohne
B15: 205 | C15: 411 | D15: 756 | E15: =SUM(B15:D15) -> 1372
A16: Freitag | B16: Brötchen,Käse | D16: Blumenkohlauflauf | E16: Wasser
A17: Datum | B17: Rindertartar, | D17: Clementine | E17: ColaMix
A18: =A13+1 -> 44197 | B18: Ei,Käse,Knäcke | E18: 129/54/77
B20: 571 | D20: 379 | E20: =SUM(B20:D20) -> 950
A21: Samstag | B21: Porridge | C21: Endiviensalat | D21: Brot, Knäcke, | E21: Wasser, Tee
A22: Datum | C22: Vignairette, | D22: Käse, Schinken, | E22: ColaMix
A23: =A18+1 -> 44198 | C23: Putenbrust | D23: Butter, Hüttenk. | E23: 142/62/76
C24: Weintrauben
B25: 205 | C25: 242 | D25: 577 | E25: =SUM(B25:D25) -> 1024
A26: Sonntag | B26: Brötchen, | D26: Brokkoli, Kart. | E26: Wasser, Tee
A27: Datum | B27: Knäcke, Ei, | D27: Rindergulasch | E27: ColaMix
A28: =A23+1 -> 44199 | B28: Käse, Fleisch- | D28: Mango-Eis (1K)
B29: salat
B30: 602 | D30: 305 | E30: =SUM(B30:D30) -> 907
A31: Montag | B31: Schokocreme | C31: Blumenkohl, | D31: ETA | E31: Wasser, Tee
A32: Datum | C32: Gulasch | D32: Hüttenkäse | E32: ColaMix
A33: =A28+1 -> 44200 | C33: Kartoffeln
B35: 216 | C35: 303 | D35: 440 | E35: =SUM(B35:D35) -> 959
A36: Dienstag | B36: Schokocreme | C36: Vignairette | D36: Butterstollen | E36: Wasser, Tee
A37: Datum | C37: Endiviensalat | D37: ETA | E37: ColaMix
A38: =A33+1 -> 44201 | C38: Pengasius
C39: Spinat
B40: 216 | C40: 456 | D40: 385 | E40: =SUM(B40:D40) -> 1057

Sheet kcal_Basic_20201230
A1: Mit x in der ersten Spalte auswählen | C1: Brot / Nudeln / Getr. | F1: Gem. | H1: Obst | J1: Käse / Milch | L1: Fisch / Fleisch | N1: Fett / Öl | P1: Süßes
A2: x | B2: =IF(SUM(C2:Q2)<>1250,"Fehler",SUM(C2:Q2)) -> 1250 | C2: 440 | F2: 140 | H2: 150 | J2: 160 | L2: 140 | N2: 160 | P2: 60
B3: =IF(SUM(C3:Q3)<>1500,"Fehler",SUM(C3:Q3)) -> 1500 | C3: 530 | F3: 180 | H3: 170 | J3: 190 | L3: 160 | N3: 200 | P3: 70
B4: =IF(SUM(C4:Q4)<>1750,"Fehler",SUM(C4:Q4)) -> 1750 | C4: 600 | F4: 190 | H4: 180 | J4: 210 | L4: 170 | N4: 240 | P4: 160
B5: =IF(SUM(C5:Q5)<>2000,"Fehler",SUM(C5:Q5)) -> 2000 | C5: 680 | F5: 200 | H5: 200 | J5: 240 | L5: 200 | N5: 280 | P5: 200
B6: =IF(SUM(C6:Q6)<>2250,"Fehler",SUM(C6:Q6)) -> 2250 | C6: 770 | F6: 230 | H6: 230 | J6: 270 | L6: 220 | N6: 310 | P6: 220
B7: =IF(SUM(C7:Q7)<>2500,"Fehler",SUM(C7:Q7)) -> 2500 | C7: 850 | F7: 250 | H7: 250 | J7: 300 | L7: 250 | N7: 350 | P7: 250
A10: =IF(Q11=1,"Sonntag",IF(Q11=2,"Montag",IF(Q11=3,"Dienstag",IF(Q11=4,"Mittwoch",IF(#REF!=5,"Donnerstag",IF(Q11=6,"Freitag","Samstag")))))) -> Mittwoch | B10: Brot / Nudeln / Getr. | E10: Gem. | G10: Obst | I10: Käse / Milch | K10: Fisch / Fleisch | M10: Fett / Öl | O10: Süßes | Q10: =A11 -> 44195
A11: 44195 | Q11: =WEEKDAY(Q10) -> 4
A12: =VLOOKUP("x",$A$2:$B$7,2) -> 1250 | B12: =VLOOKUP("x",$A$2:$P$7,3) -> 440 | E12: =VLOOKUP("x",$A$2:$P$7,6) -> 140 | G12: =VLOOKUP("x",$A$2:$P$7,8) -> 150 | I12: =VLOOKUP("x",$A$2:$P$7,10) -> 160 | K12: =VLOOKUP("x",$A$2:$P$7,12) -> 140 | M12: =VLOOKUP("x",$A$2:$P$7,14) -> 160 | O12: =VLOOKUP("x",$A$2:$P$7,16) -> 60
A13: Morgens | B13: 205 | Q13: ="GESAMT: " & SUM(B18:P18) -> GESAMT: 1084
A14: Mittags | B14: 177 | E14: 30 | I14: 114 | K14: 33 | M14: 56
A15: Nachmittags
A16: Abends | B16: 163 | I16: 116 | K16: 42 | M16: 148
A17: Naschen
A18: Gesamt | B18: =SUM(B13:D17) -> 545 | E18: =SUM(E13:F17) -> 30 | G18: =SUM(G13:H17) -> 0 | I18: =SUM(I13:J17) -> 230 | K18: =SUM(K13:L17) -> 75 | M18: =SUM(M13:N17) -> 204 | O18: =SUM(O13:P17) -> 0
A19: ="Zuwenig / Zuviel bei " & $A12 & " kcal" -> Zuwenig / Zuviel bei 1250 kcal | B19: =B18-B12 -> 105 | E19: =E18-E12 -> -110 | G19: =G18-G12 -> -150 | I19: =I18-I12 -> 70 | K19: =K18-K12 -> -65 | M19: =M18-M12 -> 44 | O19: =O18-O12 -> -60
A21: =IF(Q22=1,"Sonntag",IF(Q22=2,"Montag",IF(Q22=3,"Dienstag",IF(Q22=4,"Mittwoch",IF(Q22=5,"Donnerstag",IF(Q22=6,"Freitag","Samstag")))))) -> Donnerstag | B21: Brot / Nudeln / Getr. | E21: Gem. | G21: Obst | I21: Käse / Milch | K21: Fisch / Fleisch | M21: Fett / Öl | O21: Süßes | Q21: =A22 -> 44196
A22: =A11+1 -> 44196 | Q22: =WEEKDAY(Q21) -> 5
A23: =VLOOKUP("x",$A$2:$B$7,2) -> 1250 | B23: =VLOOKUP("x",$A$2:$P$7,3) -> 440 | E23: =VLOOKUP("x",$A$2:$P$7,6) -> 140 | G23: =VLOOKUP("x",$A$2:$P$7,8) -> 150 | I23: =VLOOKUP("x",$A$2:$P$7,10) -> 160 | K23: =VLOOKUP("x",$A$2:$P$7,12) -> 140 | M23: =VLOOKUP("x",$A$2:$P$7,14) -> 160 | O23: =VLOOKUP("x",$A$2:$P$7,16) -> 60
A24: Morgens | B24: 205 | Q24: ="GESAMT: " & SUM(B29:P29) -> GESAMT: 1373
A25: Mittags | B25: 65 | E25: 11 | G25: 16 | I25: 279 | K25: 41
A26: Nachmittags
A27: Abends | B27: 88 | E27: 30 | K27: 210 | O27: 428
A28: Naschen
A29: Gesamt | B29: =SUM(B24:D28) -> 358 | E29: =SUM(E24:F28) -> 41 | G29: =SUM(G24:H28) -> 16 | I29: =SUM(I24:J28) -> 279 | K29: =SUM(K24:L28) -> 251 | M29: =SUM(M24:N28) -> 0 | O29: =SUM(O24:P28) -> 428
A30: ="Zuwenig / Zuviel bei " & $A23 & " kcal" -> Zuwenig / Zuviel bei 1250 kcal | B30: =B29-B23 -> -82 | E30: =E29-E23 -> -99 | G30: =G29-G23 -> -134 | I30: =I29-I23 -> 119 | K30: =K29-K23 -> 111 | M30: =M29-M23 -> -160 | O30: =O29-O23 -> 368
A32: =IF(Q33=1,"Sonntag",IF(Q33=2,"Montag",IF(Q33=3,"Dienstag",IF(Q33=4,"Mittwoch",IF(Q33=5,"Donnerstag",IF(Q33=6,"Freitag","Samstag")))))) -> Freitag | B32: Brot / Nudeln / Getr. | E32: Gem. | G32: Obst | I32: Käse / Milch | K32: Fisch / Fleisch | M32: Fett / Öl | O32: Süßes | Q32: =A33 -> 44197
A33: =A22+1 -> 44197 | Q33: =WEEKDAY(Q32) -> 6
A34: =VLOOKUP("x",$A$2:$B$7,2) -> 1250 | B34: =VLOOKUP("x",$A$2:$P$7,3) -> 440 | E34: =VLOOKUP("x",$A$2:$P$7,6) -> 140 | G34: =VLOOKUP("x",$A$2:$P$7,8) -> 150 | I34: =VLOOKUP("x",$A$2:$P$7,10) -> 160 | K34: =VLOOKUP("x",$A$2:$P$7,12) -> 140 | M34: =VLOOKUP("x",$A$2:$P$7,14) -> 160 | O34: =VLOOKUP("x",$A$2:$P$7,16) -> 60
A35: Morgens | B35: 225 | I35: 313 | K35: 32 | Q35: ="GESAMT: " & SUM(B40:P40) -> GESAMT: 949
A36: Mittags
A37: Nachmittags
A38: Abends | B38: 72 | E38: 30 | G38: 74 | I38: 114 | K38: 33 | M38: 56
A39: Naschen
A40: Gesamt | B40: =SUM(B35:D39) -> 297 | E40: =SUM(E35:F39) -> 30 | G40: =SUM(G35:H39) -> 74 | I40: =SUM(I35:J39) -> 427 | K40: =SUM(K35:L39) -> 65 | M40: =SUM(M35:N39) -> 56 | O40: =SUM(O35:P39) -> 0
A41: ="Zuwenig / Zuviel bei " & $A34 & " kcal" -> Zuwenig / Zuviel bei 1250 kcal | B41: =B40-B34 -> -143 | E41: =E40-E34 -> -110 | G41: =G40-G34 -> -76 | I41: =I40-I34 -> 267 | K41: =K40-K34 -> -75 | M41: =M40-M34 -> -104 | O41: =O40-O34 -> -60
A43: =IF(Q44=1,"Sonntag",IF(Q44=2,"Montag",IF(Q44=3,"Dienstag",IF(Q44=4,"Mittwoch",IF(Q44=5,"Donnerstag",IF(Q44=6,"Freitag","Samstag")))))) -> Samstag | B43: Brot / Nudeln / Getr. | E43: Gem. | G43: Obst | I43: Käse / Milch | K43: Fisch / Fleisch | M43: Fett / Öl | O43: Süßes | Q43: =A44 -> 44198
A44: =A33+1 -> 44198 | Q44: =WEEKDAY(Q43) -> 7
A45: =VLOOKUP("x",$A$2:$B$7,2) -> 1250 | B45: =VLOOKUP("x",$A$2:$P$7,3) -> 440 | E45: =VLOOKUP("x",$A$2:$P$7,6) -> 140 | G45: =VLOOKUP("x",$A$2:$P$7,8) -> 150 | I45: =VLOOKUP("x",$A$2:$P$7,10) -> 160 | K45: =VLOOKUP("x",$A$2:$P$7,12) -> 140 | M45: =VLOOKUP("x",$A$2:$P$7,14) -> 160 | O45: =VLOOKUP("x",$A$2:$P$7,16) -> 60
...

Sheet Mz_20201223
A2: Name: | B2: Dieter Ascheberg | E2: 44188
A3: Arbeitsblatt für die | B3: 1 | C3: Stabilisierungswoche | E3: Datum
A4: mit | B4: 0 | C4: Tüten pro Tag
A5: Wochentag / Datum | B5: Frühstück | C5: Mittagessen | D5: Abendbrot | E5: zwischendurch
A6: Mittwoch | B6: Porridge | C6: Feldsalat, | D6: ETA | E6: Tee
A7: Datum | C7: Schafskäse, | D7: Knäcke | E7: Wasser
A8: 44188 | C8: Vignairette, | D8: Rotwein o.Alk. | E8: ColaMix
A9: (Datum nur in dem | C9: Putenbrust | E9: 128/61/73
A10: obigen Feld eintragen) | B10: 205 | C10: 398 | D10: 318 | E10: =SUM(B10:D10) -> 921
A11: Donnerstag | B11: Porridge | C11: Butterstollen | D11: Rinderfilet. Pfiffer- | E11: Wasser
A12: Datum | C12: Butter. Kekse | D12: linge, Zwiebeln,Eis, | E12: ColaMix
A13: =A8+1 -> 44189 | D13: Kroketten, | E13: 126/52/77
D14: Rotwein, Whisky
B15: 205 | C15: 338 | D15: 1440 | E15: =SUM(B15:D15) -> 1983
A16: Freitag | B16: Brot, Brötchen, | C16: Butterstollen | D16: Hawaiitoast mit | E16: Wasser
A17: Datum | B17: Krabbensalat i.J. | C17: Butter, Kekse | D17: Vollkornbrot, fr. | E17: ColaMix
A18: =A13+1 -> 44190 | B18: Ei, Käse,Butter | D18: Ananas, Käse | E18: 134/50/72
D19: Whisky
B20: 439 | C20: 321 | D20: 970 | E20: =SUM(B20:D20) -> 1730
A21: Samstag | B21: Brötchen,Brot, | C21: Kopfsalat,Puten- | D21: 2 Riegel | E21: Wasser, Tee
A22: Datum | B22: Krabbensalat i.J. | C22: brustfilet, Vign., | E22: ColaMix
A23: =A18+1 -> 44191 | B23: Ei, Käse,Butter | C23: Schafskäse, | E23: 121/53/68
B25: 482 | C25: 426 | D25: 182 | E25: =SUM(B25:D25) -> 1090
A26: Sonntag | B26: Porridge | D26: Champignons, Zwieb. | E26: Wasser, Tee
A27: Datum | D27: Rinderfilet, Back- | E27: ColaMix
A28: =A23+1 -> 44192 | D28: ofenkroketten, | E28: 126/50/69
D29: Butter, Rotwein oA
B30: 205 | D30: 712 | E30: =SUM(B30:D30) -> 917
A31: Montag | B31: Schokocreme | C31: Rosenkohl,Butter | D31: ETA | E31: Wasser, Tee
A32: Datum | C32: Kartoffeln,Eis- | D32: Clementine | E32: ColaMix
A33: =A28+1 -> 44193 | C33: bergsalat, Jog- | E33: 120/57/68
C34: hurtzitronendres.
B35: 216 | C35: 451 | D35: 299 | E35: =SUM(B35:D35) -> 966
A36: Dienstag | B36: Porridge | C36: Erbsen, Wurzeln | D36: ETA, Knäcke | E36: Wasser, Tee
A37: Datum | C37: Schinken, Kart. | D37: Hüttenkäse, Riegel | E37: ColaMix
A38: =A33+1 -> 44194 | C38: weiße Soße | D38: alkfr.Merlot | E38: 136/54/74
B40: 205 | C40: 446 | D40: 444 | E40: =SUM(B40:D40) -> 1095

Sheet kcal_Basic_20201223
A1: Mit x in der ersten Spalte auswählen | C1: Brot / Nudeln / Getr. | F1: Gem. | H1: Obst | J1: Käse / Milch | L1: Fisch / Fleisch | N1: Fett / Öl | P1: Süßes
A2: x | B2: =IF(SUM(C2:Q2)<>1250,"Fehler",SUM(C2:Q2)) -> 1250 | C2: 440 | F2: 140 | H2: 150 | J2: 160 | L2: 140 | N2: 160 | P2: 60
B3: =IF(SUM(C3:Q3)<>1500,"Fehler",SUM(C3:Q3)) -> 1500 | C3: 530 | F3: 180 | H3: 170 | J3: 190 | L3: 160 | N3: 200 | P3: 70
B4: =IF(SUM(C4:Q4)<>1750,"Fehler",SUM(C4:Q4)) -> 1750 | C4: 600 | F4: 190 | H4: 180 | J4: 210 | L4: 170 | N4: 240 | P4: 160
B5: =IF(SUM(C5:Q5)<>2000,"Fehler",SUM(C5:Q5)) -> 2000 | C5: 680 | F5: 200 | H5: 200 | J5: 240 | L5: 200 | N5: 280 | P5: 200
B6: =IF(SUM(C6:Q6)<>2250,"Fehler",SUM(C6:Q6)) -> 2250 | C6: 770 | F6: 230 | H6: 230 | J6: 270 | L6: 220 | N6: 310 | P6: 220
B7: =IF(SUM(C7:Q7)<>2500,"Fehler",SUM(C7:Q7)) -> 2500 | C7: 850 | F7: 250 | H7: 250 | J7: 300 | L7: 250 | N7: 350 | P7: 250
A10: =IF(Q11=1,"Sonntag",IF(Q11=2,"Montag",IF(Q11=3,"Dienstag",IF(Q11=4,"Mittwoch",IF(#REF!=5,"Donnerstag",IF(Q11=6,"Freitag","Samstag")))))) -> Mittwoch | B10: Brot / Nudeln / Getr. | E10: Gem. | G10: Obst | I10: Käse / Milch | K10: Fisch / Fleisch | M10: Fett / Öl | O10: Süßes | Q10: =A11 -> 44188
A11: 44188 | Q11: =WEEKDAY(Q10) -> 4
A12: =VLOOKUP("x",$A$2:$B$7,2) -> 1250 | B12: =VLOOKUP("x",$A$2:$P$7,3) -> 440 | E12: =VLOOKUP("x",$A$2:$P$7,6) -> 140 | G12: =VLOOKUP("x",$A$2:$P$7,8) -> 150 | I12: =VLOOKUP("x",$A$2:$P$7,10) -> 160 | K12: =VLOOKUP("x",$A$2:$P$7,12) -> 140 | M12: =VLOOKUP("x",$A$2:$P$7,14) -> 160 | O12: =VLOOKUP("x",$A$2:$P$7,16) -> 60
A13: Morgens | B13: 206 | I13: 90 | M13: 30 | Q13: ="GESAMT: " & SUM(B18:P18) -> GESAMT: 930
A14: Mittags | E14: 50 | K14: 100 | M14: 80
A15: Nachmittags
A16: Abends | B16: 114 | I16: 100 | K16: 90 | M16: 30
A17: Naschen | O17: 40
A18: Gesamt | B18: =SUM(B13:D17) -> 320 | E18: =SUM(E13:F17) -> 50 | G18: =SUM(G13:H17) -> 0 | I18: =SUM(I13:J17) -> 190 | K18: =SUM(K13:L17) -> 190 | M18: =SUM(M13:N17) -> 140 | O18: =SUM(O13:P17) -> 40
A19: ="Zuwenig / Zuviel bei " & $A12 & " kcal" -> Zuwenig / Zuviel bei 1250 kcal | B19: =B18-B12 -> -120 | E19: =E18-E12 -> -90 | G19: =G18-G12 -> -150 | I19: =I18-I12 -> 30 | K19: =K18-K12 -> 50 | M19: =M18-M12 -> -20 | O19: =O18-O12 -> -20
A21: =IF(Q22=1,"Sonntag",IF(Q22=2,"Montag",IF(Q22=3,"Dienstag",IF(Q22=4,"Mittwoch",IF(Q22=5,"Donnerstag",IF(Q22=6,"Freitag","Samstag")))))) -> Donnerstag | B21: Brot / Nudeln / Getr. | E21: Gem. | G21: Obst | I21: Käse / Milch | K21: Fisch / Fleisch | M21: Fett / Öl | O21: Süßes | Q21: =A22 -> 44189
A22: =A11+1 -> 44189 | Q22: =WEEKDAY(Q21) -> 5
A23: =VLOOKUP("x",$A$2:$B$7,2) -> 1250 | B23: =VLOOKUP("x",$A$2:$P$7,3) -> 440 | E23: =VLOOKUP("x",$A$2:$P$7,6) -> 140 | G23: =VLOOKUP("x",$A$2:$P$7,8) -> 150 | I23: =VLOOKUP("x",$A$2:$P$7,10) -> 160 | K23: =VLOOKUP("x",$A$2:$P$7,12) -> 140 | M23: =VLOOKUP("x",$A$2:$P$7,14) -> 160 | O23: =VLOOKUP("x",$A$2:$P$7,16) -> 60
A24: Morgens | B24: 206 | Q24: ="GESAMT: " & SUM(B29:P29) -> GESAMT: 1990
A25: Mittags
A26: Nachmittags | B26: 314 | M26: 40
A27: Abends | B27: 150 | E27: 60 | I27: 240 | K27: 260 | M27: 180 | O27: 540
A28: Naschen
A29: Gesamt | B29: =SUM(B24:D28) -> 670 | E29: =SUM(E24:F28) -> 60 | G29: =SUM(G24:H28) -> 0 | I29: =SUM(I24:J28) -> 240 | K29: =SUM(K24:L28) -> 260 | M29: =SUM(M24:N28) -> 220 | O29: =SUM(O24:P28) -> 540
A30: ="Zuwenig / Zuviel bei " & $A23 & " kcal" -> Zuwenig / Zuviel bei 1250 kcal | B30: =B29-B23 -> 230 | E30: =E29-E23 -> -80 | G30: =G29-G23 -> -150 | I30: =I29-I23 -> 80 | K30: =K29-K23 -> 120 | M30: =M29-M23 -> 60 | O30: =O29-O23 -> 480
A32: =IF(Q33=1,"Sonntag",IF(Q33=2,"Montag",IF(Q33=3,"Dienstag",IF(Q33=4,"Mittwoch",IF(Q33=5,"Donnerstag",IF(Q33=6,"Freitag","Samstag")))))) -> Freitag | B32: Brot / Nudeln / Getr. | E32: Gem. | G32: Obst | I32: Käse / Milch | K32: Fisch / Fleisch | M32: Fett / Öl | O32: Süßes | Q32: =A33 -> 44190
A33: =A22+1 -> 44190 | Q33: =WEEKDAY(Q32) -> 6
A34: =VLOOKUP("x",$A$2:$B$7,2) -> 1250 | B34: =VLOOKUP("x",$A$2:$P$7,3) -> 440 | E34: =VLOOKUP("x",$A$2:$P$7,6) -> 140 | G34: =VLOOKUP("x",$A$2:$P$7,8) -> 150 | I34: =VLOOKUP("x",$A$2:$P$7,10) -> 160 | K34: =VLOOKUP("x",$A$2:$P$7,12) -> 140 | M34: =VLOOKUP("x",$A$2:$P$7,14) -> 160 | O34: =VLOOKUP("x",$A$2:$P$7,16) -> 60
A35: Morgens | B35: 160 | I35: 97 | K35: 70 | M35: 111 | Q35: ="GESAMT: " & SUM(B40:P40) -> GESAMT: 1733
A36: Mittags | B36: 250 | M36: 74
A37: Nachmittags
A38: Abends | B38: 236 | G38: 114 | I38: 328 | O38: 293
A39: Naschen
A40: Gesamt | B40: =SUM(B35:D39) -> 646 | E40: =SUM(E35:F39) -> 0 | G40: =SUM(G35:H39) -> 114 | I40: =SUM(I35:J39) -> 425 | K40: =SUM(K35:L39) -> 70 | M40: =SUM(M35:N39) -> 185 | O40: =SUM(O35:P39) -> 293
A41: ="Zuwenig / Zuviel bei " & $A34 & " kcal" -> Zuwenig / Zuviel bei 1250 kcal | B41: =B40-B34 -> 206 | E41: =E40-E34 -> -140 | G41: =G40-G34 -> -36 | I41: =I40-I34 -> 265 | K41: =K40-K34 -> -70 | M41: =M40-M34 -> 25 | O41: =O40-O34 -> 233
A43: =IF(Q44=1,"Sonntag",IF(Q44=2,"Montag",IF(Q44=3,"Dienstag",IF(Q44=4,"Mittwoch",IF(Q44=5,"Donnerstag",IF(Q44=6,"Freitag","Samstag")))))) -> Samstag | B43: Brot / Nudeln / Getr. | E43: Gem. | G43: Obst | I43: Käse / Milch | K43: Fisch / Fleisch | M43: Fett / Öl | O43: Süßes | Q43: =A44 -> 44191
A44: =A33+1 -> 44191 | Q44: =WEEKDAY(Q43) -> 7
A45: =VLOOKUP("x",$A$2:$B$7,2) -> 1250 | B45: =VLOOKUP("x",$A$2:$P$7,3) -> 440 | E45: =VLOOKUP("x",$A$2:$P$7,6) -> 140 | G45: =VLOOKUP("x",$A$2:$P$7,8) -> 150 | I45: =VLOOKUP("x",$A$2:$P$7,10) -> 160 | K45: =VLOOKUP("x",$A$2:$P$7,12) -> 140 | M45: =VLOOKUP("x",$A$2:$P$7,14) -> 160 | O45: =VLOOKUP("x",$A$2:$P$7,16) -> 60
...

Sheet UW_5
A2: Name: | B2: Dieter Ascheberg | E2: 44181
A3: Arbeitsblatt für die | B3: 4 | C3: Umstellungswoche | E3: Datum
A4: mit | B4: 1 | C4: Tüten pro Tag
A5: Wochentag / Datum | B5: Frühstück | C5: Mittagessen | D5: Abendbrot | E5: zwischendurch
A6: Mittwoch | B6: Porridge | C6: Gemüsesuppe | D6: ETA | E6: Tee
A7: Datum | C7: Orange gr. | D7: 2 Knäcke, Camen- | E7: Wasser
A8: 44181 | D8: bert, Schinken | E8: ColaMix
A9: (Datum nur in dem
A10: obigen Feld eintragen) | B10: 205 | C10: 338 | D10: 455 | E10: =SUM(B10:D10) -> 998
A11: Donnerstag | B11: Haferflocken | C11: Kartoffeln | D11: ETA | E11: Wasser
A12: Datum | B12: Kakao | C12: Blumenkohl | D12: 1 x Knäcke | E12: ColaMix
A13: =A8+1 -> 44182 | B13: Johgurt 1,5% | C13: Frikadelle | D13: Schinken | E13: 130/51/69
C14: Clementine | E14: schwindelig
B15: 305 | C15: 456 | D15: 284 | E15: =SUM(B15:D15) -> 1045
A16: Freitag | B16: Schokocreme | C16: Gemüsesuppe | D16: Knäckebrot | E16: Wasser
A17: Datum | C17: Orange gr. | D17: Hüttenkäse | E17: Rotwein alkfrei
A18: =A13+1 -> 44183 | D18: ETA | E18: 119/48/70
D19: Rotwein alkfrei | E19: 140/52/68
B20: 205 | C20: 338 | D20: 417 | E20: =SUM(B20:D20) -> 960
A21: Samstag | B21: Brötchen | C21: Hähnchenbrust | D21: Schokocreme | E21: Wasser
A22: Datum | B22: Käse 60 gr. | C22: Mischbrot | E22: Tee | 123/49/63
A23: =A18+1 -> 44184 | B23: Hüttenkäse | C23: Kräuterbutter sg. | E23: 135/57/64
E24: 137/58/65
B25: 370 | C25: 309 | D25: 205 | E25: =SUM(B25:D25) -> 884
A26: Sonntag | B26: Brötchen | C26: Porridge | D26: Schwarzbrot, | E26: Wasser
A27: Datum | B27: Ei, Käse, Butter | D27: Grünländer,Knäcke | E27: Tee
A28: =A23+1 -> 44185 | D28: Schinken, Hütten- | E28: 122/53/66
D29: käse, Radieschen
B30: 340 | C30: 205 | D30: 320 | E30: =SUM(B30:D30) -> 865
A31: Montag | B31: Schokocreme | C31: Gemüserösti mit | D31: Brot, Knäcke, | E31: Wasser
A32: Datum | C32: Kräuterquark | D32: Schinken, Käse | E32: Tee
A33: =A28+1 -> 44186 | D33: Hüttenkäse
D34: Rotwein
B35: 216 | C35: 200 | D35: =479+156 -> 635 | E35: =SUM(B35:D35) -> 1051
A36: Dienstag | B36: Porridge | C36: Kartoffeln, Spinat, | D36: ETA | E36: Wasser
A37: Datum | C37: Ei (2) | E37: Tee
A38: =A33+1 -> 44187 | E38: 122/50/74
B40: 205 | C40: 413 | D40: 225 | E40: =SUM(B40:D40) -> 843

Sheet UW_4
A2: Name: | B2: Dieter Ascheberg | E2: 44175
A3: Arbeitsblatt für die | B3: 4 | C3: Umstellungswoche | E3: Datum
A4: mit | B4: 2 | C4: Tüten pro Tag
A5: Wochentag / Datum | B5: Frühstück | C5: Mittagessen | D5: Abendbrot | E5: zwischendurch
A6: Mittwoch | B6: Erdbeer | C6: 2 Riegel | D6: 2 ETA | E6: Tee
A7: Datum | D7: 100gr. Körniger | E7: Wasser
A8: 44174 | D8: Frischkäse | E8: ColaMix
A9: (Datum nur in dem | D9: 100 ml Rotwein
A10: obigen Feld eintragen) | B10: 207 | C10: 182 | D10: 612 | E10: =SUM(B10:D10) -> 1001
A11: Donnerstag | B11: Porridge | C11: Tafelspitz mit | D11: 2 Riegel | E11: Wasser
A12: Datum | C12: Wurzeln/Erbsen | D12: Clementine | E12: ColaMix
A13: =A8+1 -> 44175 | C13: Sellerie, Kart. | D13: Rotwein
C14: Meerrettichs.
B15: 205 | C15: 437 | D15: 375 | E15: =SUM(B15:D15) -> 1017
A16: Freitag | B16: Porridge | C16: Salatgurke | D16: Clementine 120 gr. | E16: Wasser
A17: Datum | C17: Kartoffel,200gr | D17: Schokocreme | E17: ColaMix
A18: =A13+1 -> 44176 | C18: Pengasius,140g | E18: 130/56/71
B20: 205 | C20: 254 | D20: 271 | E20: =SUM(B20:D20) -> 730
A21: Samstag | B21: Porridge | C21: Kopfsalat | D21: Butterstollen | E21: Wasser
A22: Datum | C22: Hühnchenbrust | D22: Schokocreme | E22: ColaMix
A23: =A18+1 -> 44177 | C23: Clementine | D23: Butter | E23: Tee
E24: 115/50/72
B25: 205 | C25: 218 | D25: 468 | E25: =SUM(B25:D25) -> 891
A26: Sonntag | B26: Clementine | D26: Riegel, Stlfser | E26: Wasser
A27: Datum | B27: Ei, Hüttenkäse | D27: Butter, Schinken | E27: Tee
A28: =A23+1 -> 44178 | B28: Stilfser | D28: Schwarzbrot | E28: 107/49/65
B29: Brötchen | D29: Schokocreme
B30: 446 | D30: 621 | E30: =SUM(B30:D30) -> 1067
A31: Montag | B31: Porridge | C31: Blumenkohl- | D31: Schwarzbrot | E31: Wasser
A32: Datum | C32: auflauf | D32: Käse, Butter | E32: Tee
A33: =A28+1 -> 44179 | C33: Clementine | D33: Riegel, Stlfser | E33: 116/48/67
B35: 205 | C35: 316 | D35: 316 | E35: =SUM(B35:D35) -> 837
A36: Dienstag | B36: Porridge | C36: Blumenkohl- | D36: ETA | E36: 123/53/71
A37: Datum | C37: auflauf | D37: Riegel | E37: 126/51/68
A38: =A33+1 -> 44180 | C38: Clementine | E38: 135/47/65
B40: 205 | C40: 342 | D40: 402 | E40: =SUM(B40:D40) -> 949

Sheet UW_3
A2: Name: | B2: Dieter Ascheberg | E2: 44168
A3: Arbeitsblatt für die | B3: 3 | C3: Umstellungswoche | E3: Datum
A4: mit | B4: 2 | C4: Tüten pro Tag
A5: Wochentag / Datum | B5: Frühstück | C5: Mittagessen | D5: Abendbrot | E5: zwischendurch
A6: Mittwoch | B6: Erdbeerdrink | C6: Riegel | D6: Schwarzbrot | E6: Tee
A7: Datum | C7: Kopfsalat | D7: Schinken | E7: Wasser
A8: 44167 | C8: Hähnchenbrustf. | D8: Käse (=ETAbendbr.) | E8: ColaMix
A9: (Datum nur in dem
A10: obigen Feld eintragen) | B10: 207 | C10: 228 | D10: 225 | E10: =SUM(B10:D10) -> 660
A11: Donnerstag | B11: Schokodrink | C11: selbstgem.Frika- | D11: EinTütenAbendbrot | E11: Wasser
A12: Datum | C12: delle, Kartoffeln | D12: (= ETAbendbr.) | E12: ColaMix
A13: =A8+1 -> 44168 | C13: Möhren/Sellerie | D13: Knäckebrot Käse
D14: Riegel
B15: 216 | C15: 299 | D15: 513 | E15: =SUM(B15:D15) -> 1028
A16: Freitag | B16: Porridge | C16: Frikadelle, Rosen | D16: Schokocreme | E16: Wasser
A17: Datum | C17: kohl, Kartoffeln | E17: ColaMix
A18: =A13+1 -> 44169 | C18: Butter,
C19: 2 Clementinen
B20: 205 | C20: 428 | D20: 216 | E20: =SUM(B20:D20) -> 849
A21: Samstag | B21: Erdbeerdrink | C21: Frikadelle, Bohn. | D21: Clementinbe | E21: Wasser
A22: Datum | C22: Kartoffeln, But. | D22: Schokocreme | E22: ColaMix
A23: =A18+1 -> 44170 | C23: Clementine | D23: Rotwein 100 ml | E23: Tee
B25: 207 | C25: 412 | D25: 335 | E25: =SUM(B25:D25) -> 954
A26: Sonntag | B26: Brötchen(VK), | D26: Butterstollen(50gr.) | E26: Wasser
A27: Datum | B27: Vollkornbrot(15g) | D27: Schokocreme | E27: Tee
A28: =A23+1 -> 44171 | B28: Putenaufschnitt,
B29: Ei
B30: 422 | D30: 429 | E30: =SUM(B30:D30) -> 851
A31: Montag | B31: Porridge | C31: Putenbrust,Feld- | D31: Schwarzbrot,Knäcke | E31: Wasser
A32: Datum | C32: salat, Clementin. | D32: Kasseler,Bresso,1/2 | E32: Tee
A33: =A28+1 -> 44172 | D33: Ei,Stilfser, Hütten- | E33: 134/59/72
D34: käse 50 gr.
B35: 205 | C35: 186 | D35: 303 | E35: =SUM(B35:D35) -> 694
A36: Dienstag | B36: Vanilledrink | C36: Kartoffeln,Rosen | D36: Knäckebrot(2),
A37: Datum | C37: kohl,Putenbrust | D37: Bresso,Stilfser,
A38: =A33+1 -> 44173 | C38: 2 Clementinen | D38: 2 Clementinen
B40: 216 | C40: 334 | D40: 269 | E40: =SUM(B40:D40) -> 819

Sheet UW_2
A2: Name: | B2: Dieter Ascheberg | E2: 44160
A3: Arbeitsblatt für die | B3: 2 | C3: Umstellungswoche | E3: Datum
A4: mit | B4: 3 | C4: Tüten pro Tag
A5: Wochentag / Datum | B5: Frühstück | C5: Mittagessen | D5: Abendbrot | E5: zwischendurch
A6: Mittwoch | B6: Erdbeershake | C6: Kartoffel/80 gr. | D6: Porridge | E6: Tee
A7: Datum | C7: Broccoli/160 gr. | E7: Wasser
A8: 44160 | C8: Butter/5 gr. | E8: ColaMix
A9: (Datum nur in dem
A10: obigen Feld eintragen) | C10: Schokocreme
A11: Donnerstag | B11: Erdbeershake | C11: Kartoffel/80 gr. | D11: Porridge | E11: Wasser
A12: Datum | C12: Rosenkohl/220gr. | D12: 3 kl.Tomaten | E12: ColaMix
A13: =A8+1 -> 44161 | C13: Butter/10gr. | D13: 60 gr.Radieschen
C14: (=225,3 kcal)
C15: Schokocreme
A16: Freitag | B16: Vanilledrink | C16: Porridge | D16: Kartoffelsuppe | E16: Wasser
A17: Datum | D17: 1 Teller | E17: ColaMix
A18: =A13+1 -> 44162 | D18: 1 Riegel | E18: 400 ml trockenen
B19: 216 kcal | C19: 205 kcal | D19: 208 kcal | E19: Rotwein (312 kcal)
A21: Samstag | B21: Vanilledrink | C21: Kartoffelsuppe | D21: Schokocreme | E21: Wasser
A22: Datum | C22: 2 Teller | D22: Radieschen 100 gr. | E22: ColaMix
A23: =A18+1 -> 44163 | C23: 1 Riegel | D23: Gurkensalat | E23: 100 ml Rotwein
B24: 216 kcal | C24: 346 kcal | D24: 297 kcal | E24: 78 kcal
A26: Sonntag | B26: Schokocreme | C26: Protein-Kekse | D26: Rosenkohl, Kar- | E26: Wasser
A27: Datum | C27: 74 gr. | D27: toffeln,Butter
A28: =A23+1 -> 44164 | C28: Riegel
B29: 216 kcal | C29: 422 kcal | D29: 199 kcal
A31: Montag | B31: Vanilledrink | C31: Porridge | D31: Schokocreme | E31: Wasser
A32: Datum | C32: Bunter Salat | E32: Tee
A33: =A28+1 -> 44165
B34: 216 kcal | C34: 404 kcal | D34: 216 kcal
A36: Dienstag | B36: Vanilledrink | C36: Kartoffeln(80) | D36: Porridge | E36: Wasser
A37: Datum | C37: Wurzeln(200)Ei | E37: Tee
A38: =A33+1 -> 44166 | C38: (73)Orange(100)
C39: Schokocreme
B40: 216 kcal | C40: 499 kcal | D40: 205 kcal

Sheet UW_1
A2: Name: | B2: Dieter Ascheberg | E2: 44153
A3: Arbeitsblatt für die | B3: 1 | C3: Umstellungswoche | E3: Datum
A4: mit | B4: 3 | C4: Tüten pro Tag
A5: Wochentag / Datum | B5: Frühstück | C5: Mittagessen | D5: Abendbrot | E5: zwischendurch
A6: Mittwoch | B6: Erdbeershake | C6: Gemüsesuppe | D6: Porridge | E6: Wasser
A7: Datum | D7: Schokodrink | E7: Tee
A8: 44153
A9: (Datum nur in dem
A10: obigen Feld eintragen)
A11: Donnerstag | B11: Erdbeershake | C11: Porridge | D11: Schwarzbrot/30gr
A12: Datum | D12: Schinken / 18 gr.
A13: =A8+1 -> 44154 | D13: Käse / 20 gr. | E13: (ETA=EinTüten-
D14: =195 Kcal | E14: Abendbrot)
D15: Schokocreme
A16: Freitag | B16: Erdbeershake | C16: Porridge | D16: Zucchinisuppe
A17: Datum | D17: mit Lachs
A18: =A13+1 -> 44155 | D18: Schokocreme
A21: Samstag | B21: Erdbeershake | C21: Zucchinisuppe | D21: Porridge | E21: 0.66666667
A22: Datum | C22: mit Lachs | E22: 3 Proteinkekse
A23: =A18+1 -> 44156 | E23: =255 Kcal
A26: Sonntag | B26: Mohn-Vollkorn- | C26: Schokocreme | D26: Porridge | E26: ColaMix
A27: Datum | B27: Brötchen, Käse, | C27: 1 Riegel | E27: Wasser
A28: =A23+1 -> 44157 | B28: Schinken, Ei
A31: Montag | B31: Erdbeershake | C31: Porridge | D31: Schokocreme
A32: Datum | D32: ETA
A33: =A28+1 -> 44158
A36: Dienstag | B36: Erdbeershake | C36: Porridge | D36: ETA | E36: Tee
A37: Datum | D37: Schokocreme | E37: Wasser
A38: =A33+1 -> 44159 | E38: ColaMix

Sheet Mz_Basic
A2: Name: | B2: Bitte Namen eingeben | E2: =TODAY() -> 44206
A3: Arbeitsblatt für die | B3: 3 | C3: Stabilisierungswoche
A4: mit | B4: 0 | C4: Tüten pro Tag
A5: Wochentag / Datum | B5: Frühstück | C5: Mittagessen | D5: Abendbrot | E5: zwischendurch
A6: =TEXT(A8,"TTTT") -> Mittwoch | E6: Tee, Wasser
A7: Datum | E7: ColaMix light
A8: 44202
A9: (Datum nur in dem
A10: obigen Feld eintragen) | E10: =SUM(B10:D10) -> 0
A11: =TEXT(A13,"TTTT") -> Donnerstag | E11: Tee, Wasser
A12: Datum | E12: ColaMix light
A13: =A8+1 -> 44203
E15: =SUM(B15:D15) -> 0
A16: =TEXT(A18,"TTTT") -> Freitag | E16: Tee, Wasser
A17: Datum | E17: ColaMix light
A18: =A13+1 -> 44204
E20: =SUM(B20:D20) -> 0
A21: =TEXT(A23,"TTTT") -> Samstag | E21: Tee, Wasser
A22: Datum | E22: ColaMix light
A23: =A18+1 -> 44205
E25: =SUM(B25:D25) -> 0
A26: =TEXT(A28,"TTTT") -> Sonntag | E26: Tee, Wasser
A27: Datum | E27: ColaMix light
A28: =A23+1 -> 44206
E30: =SUM(B30:D30) -> 0
A31: =TEXT(A33,"TTTT") -> Montag | E31: Tee, Wasser
A32: Datum | E32: ColaMix light
A33: =A28+1 -> 44207
E35: =SUM(B35:D35) -> 0
A36: =TEXT(A38,"TTTT") -> Dienstag | E36: Tee, Wasser
A37: Datum | E37: ColaMix light
A38: =A33+1 -> 44208
E40: =SUM(B40:D40) -> 0

Sheet kval_Basic
A1: Auswählen | B1: Nicht vergessen in das blaue Feld das gewünschte Datum einzugeben!
A2: 1 | B2: =VLOOKUP($A$2,Htab!$C$2:$K$7,3) -> 440 | E2: =VLOOKUP($A$2,Htab!$C$2:$K$7,4) -> 140 | G2: =VLOOKUP($A$2,Htab!$C$2:$K$7,5) -> 150 | I2: =VLOOKUP($A$2,Htab!$C$2:$K$7,6) -> 160 | K2: =VLOOKUP($A$2,Htab!$C$2:$K$7,7) -> 140 | M2: =VLOOKUP($A$2,Htab!$C$2:$K$7,8) -> 160 | O2: =VLOOKUP($A$2,Htab!$C$2:$K$7,9) -> 60 | Q2: Kcal
A3: =TEXT(A4,"TTTT") -> Mittwoch | B3: Brot / Nudeln / Getr. | E3: Gemüse | G3: Obst | I3: Käse / Milch | K3: Fisch / Fleisch | M3: Fett / Öl | O3: Süßes | Q3: =SUM(B2:P2) -> 1250
A4: 44202
A5: Morgens | Q5: Gesamt
A6: Mittags
A7: Nachmittags | Q7: =SUM(B10:P10) -> 0
A8: Abends
A9: Naschen
A10: Gesamt | B10: =SUM(B5:D9) -> 0 | E10: =SUM(E5:F9) -> 0 | G10: =SUM(G5:H9) -> 0 | I10: =SUM(I5:J9) -> 0 | K10: =SUM(K5:L9) -> 0 | M10: =SUM(M5:N9) -> 0 | O10: =SUM(O5:P9) -> 0
A11: ="Zuwenig / Zuviel bei " & VLOOKUP($A$2,Htab!$C$2:$K$7,2) & " kcal" -> Zuwenig / Zuviel bei 1250 kcal | B11: =B10-B2 -> -440 | E11: =E10-E2 -> -140 | G11: =G10-G2 -> -150 | I11: =I10-I2 -> -160 | K11: =K10-K2 -> -140 | M11: =M10-M2 -> -160 | O11: =O10-O2 -> -60
A13: Auswählen
A14: 4 | B14: =VLOOKUP($A14,Htab!$C$2:$K$7,3) -> 680 | E14: =VLOOKUP($A14,Htab!$C$2:$K$7,4) -> 200 | G14: =VLOOKUP($A14,Htab!$C$2:$K$7,5) -> 200 | I14: =VLOOKUP($A14,Htab!$C$2:$K$7,6) -> 240 | K14: =VLOOKUP($A14,Htab!$C$2:$K$7,7) -> 200 | M14: =VLOOKUP($A14,Htab!$C$2:$K$7,8) -> 280 | O14: =VLOOKUP($A14,Htab!$C$2:$K$7,9) -> 200 | Q14: Kcal
A15: =TEXT(A16,"TTTT") -> Donnerstag | B15: Brot / Nudeln / Getr. | E15: Gemüse | G15: Obst | I15: Käse / Milch | K15: Fisch / Fleisch | M15: Fett / Öl | O15: Süßes | Q15: =SUM(B14:P14) -> 2000
A16: =A4+1 -> 44203
A17: Morgens | Q17: Gesamt
A18: Mittags
A19: Nachmittags | Q19: =SUM(B22:P22) -> 0
A20: Abends
A21: Naschen
A22: Gesamt | B22: =SUM(B17:D21) -> 0 | E22: =SUM(E17:F21) -> 0 | G22: =SUM(G17:H21) -> 0 | I22: =SUM(I17:J21) -> 0 | K22: =SUM(K17:L21) -> 0 | M22: =SUM(M17:N21) -> 0 | O22: =SUM(O17:P21) -> 0
A23: ="Zuwenig / Zuviel bei " & VLOOKUP($A14,Htab!$C$2:$K$7,2) & " kcal" -> Zuwenig / Zuviel bei 2000 kcal | B23: =B22-B14 -> -680 | E23: =E22-E14 -> -200 | G23: =G22-G14 -> -200 | I23: =I22-I14 -> -240 | K23: =K22-K14 -> -200 | M23: =M22-M14 -> -280 | O23: =O22-O14 -> -200
A25: Auswählen
A26: 2 | B26: =VLOOKUP($A26,Htab!$C$2:$K$7,3) -> 530 | E26: =VLOOKUP($A26,Htab!$C$2:$K$7,4) -> 180 | G26: =VLOOKUP($A26,Htab!$C$2:$K$7,5) -> 170 | I26: =VLOOKUP($A26,Htab!$C$2:$K$7,6) -> 190 | K26: =VLOOKUP($A26,Htab!$C$2:$K$7,7) -> 160 | M26: =VLOOKUP($A26,Htab!$C$2:$K$7,8) -> 200 | O26: =VLOOKUP($A26,Htab!$C$2:$K$7,9) -> 70 | Q26: Kcal
A27: =TEXT(A28,"TTTT") -> Freitag | B27: Brot / Nudeln / Getr. | E27: Gemüse | G27: Obst | I27: Käse / Milch | K27: Fisch / Fleisch | M27: Fett / Öl | O27: Süßes | Q27: =SUM(B26:P26) -> 1500
A28: =A16+1 -> 44204
A29: Morgens | Q29: Gesamt
A30: Mittags
A31: Nachmittags | Q31: =SUM(B34:P34) -> 0
A32: Abends
A33: Naschen
A34: Gesamt | B34: =SUM(B29:D33) -> 0 | E34: =SUM(E29:F33) -> 0 | G34: =SUM(G29:H33) -> 0 | I34: =SUM(I29:J33) -> 0 | K34: =SUM(K29:L33) -> 0 | M34: =SUM(M29:N33) -> 0 | O34: =SUM(O29:P33) -> 0
A35: ="Zuwenig / Zuviel bei " & VLOOKUP($A26,Htab!$C$2:$K$7,2) & " kcal" -> Zuwenig / Zuviel bei 1500 kcal | B35: =B34-B26 -> -530 | E35: =E34-E26 -> -180 | G35: =G34-G26 -> -170 | I35: =I34-I26 -> -190 | K35: =K34-K26 -> -160 | M35: =M34-M26 -> -200 | O35: =O34-O26 -> -70
A37: Auswählen
A38: 5 | B38: =VLOOKUP($A38,Htab!$C$2:$K$7,3) -> 770 | E38: =VLOOKUP($A38,Htab!$C$2:$K$7,4) -> 230 | G38: =VLOOKUP($A38,Htab!$C$2:$K$7,5) -> 230 | I38: =VLOOKUP($A38,Htab!$C$2:$K$7,6) -> 270 | K38: =VLOOKUP($A38,Htab!$C$2:$K$7,7) -> 220 | M38: =VLOOKUP($A38,Htab!$C$2:$K$7,8) -> 310 | O38: =VLOOKUP($A38,Htab!$C$2:$K$7,9) -> 220 | Q38: Kcal
A39: =TEXT(A40,"TTTT") -> Samstag | B39: Brot / Nudeln / Getr. | E39: Gemüse | G39: Obst | I39: Käse / Milch | K39: Fisch / Fleisch | M39: Fett / Öl | O39: Süßes | Q39: =SUM(B38:P38) -> 2250
A40: =A28+1 -> 44205
A41: Morgens | Q41: Gesamt
A42: Mittags
A43: Nachmittags | Q43: =SUM(B46:P46) -> 0
...

Sheet Htab
E1: B/N | F1: Gem | G1: Obst | H1: K/M | I1: F/F | J1: F/Ö | K1: Sü
A2: Mz_Basic | B2: 1 | C2: 1 | D2: 1250 | E2: 440 | F2: 140 | G2: 150 | H2: 160 | I2: 140 | J2: 160 | K2: 60
A3: kval_Basic | B3: 2 | C3: 2 | D3: 1500 | E3: 530 | F3: 180 | G3: 170 | H3: 190 | I3: 160 | J3: 200 | K3: 70
A4: Htab | B4: 3 | C4: 3 | D4: 1750 | E4: 600 | F4: 190 | G4: 180 | H4: 210 | I4: 170 | J4: 240 | K4: 160
C5: 4 | D5: 2000 | E5: 680 | F5: 200 | G5: 200 | H5: 240 | I5: 200 | J5: 280 | K5: 200
C6: 5 | D6: 2250 | E6: 770 | F6: 230 | G6: 230 | H6: 270 | I6: 220 | J6: 310 | K6: 220
C7: 6 | D7: 2500 | E7: 850 | F7: 250 | G7: 250 | H7: 300 | I7: 250 | J7: 350 | K7: 250
