Workbook

Sheet KG
A1: Datum | B1: Gewicht | C1: Abnahme | D1: Hüfte | E1: Bauch | F1: abgenommen: | G1: =B30 -> 22.1
A2: 44083 | B2: 128.6 | C2: 0 | D2: 138 | E2: 141
A3: 44090 | B3: 125.8 | C3: =IF(B3=0,"",B2-B3) -> 2.8 | D3: 137.4 | E3: 140.4
A4: 44097 | B4: 124.1 | C4: =IF(B4=0,"",B3-B4) -> 1.7 | D4: 135.4 | E4: 138.4
A5: 44104 | B5: 122.1 | C5: =IF(B5=0,"",B4-B5) -> 2 | D5: 133.2 | E5: 137.5
A6: 44111 | B6: 123.2 | C6: =IF(B6=0,"",B5-B6) -> -1.1 | D6: 131.8 | E6: 139.6
A7: 44118 | B7: 118.6 | C7: =IF(B7=0,"",B6-B7) -> 4.6 | D7: 134.1 | E7: 139.1
A8: 44125 | B8: 116 | C8: =IF(B8=0,"",B7-B8) -> 2.6 | D8: 130 | E8: 134
A9: 44132 | B9: 114.4 | C9: =IF(B9=0,"",B8-B9) -> 1.6 | D9: 127 | E9: 134
A10: 44139 | B10: 112.5 | C10: =IF(B10=0,"",B9-B10) -> 1.9 | D10: 127 | E10: 132.1
A11: 44146 | B11: 111.5 | C11: =IF(B11=0,"",B10-B11) -> 1 | D11: 125 | E11: 128.5
A12: 44153 | B12: 112.7 | C12: =IF(B12=0,"",B11-B12) -> -1.2 | D12: 126.5 | E12: 129.6
A13: 44160 | B13: 109.9 | C13: =IF(B13=0,"",B12-B13) -> 2.8 | D13: 126.7 | E13: 128.7
A14: 44167 | B14: 108.9 | C14: =IF(B14=0,"",B13-B14) -> 1 | D14: 121.5 | E14: 126
... A19: 44202 | B19: 106.5 | C19: =IF(B19=0,"",B18-B19) -> 0.1 | D19: 125.6 | E19: 126.1
A20: 44209 | C20: =IF(B20=0,"",B19-B20)
A21: 44216 | C21: =IF(B21=0,"",B20-B21)
A22: 44223 | C22: =IF(B22=0,"",B21-B22)
A23: 44230 | C23: =IF(B23=0,"",B22-B23)
A24: 44237 | C24: =IF(B24=0,"",B23-B24)
A25: 44244 | C25: =IF(B25=0,"",B24-B25)
A26: 44251 | C26: =IF(B26=0,"",B25-B26)
A27: 44258 | C27: =IF(B27=0,"",B26-B27)
A28: 44265 | C28: =IF(B28=0,"",B27-B28)
A29: 44272 | C29: =IF(B29=0,"",B28-B29)
A30: Gesamt: | B30: =SUM(C2:C29) -> 22.1
A31: Durchschnitt: | B31: =B30/(COUNT(C2:C29)-1) -> 1.3

Sheet Diagramm

Sheet Mz_20210106
A2: Name: | B2: Dieter Ascheberg | E2: 43836
A3: Arbeitsblatt für die | B3: 3 | C3: Stabilisierungswoche | E3: Datum
A4: mit | B4: 0 | C4: Tüten pro Tag
A5: Wochentag / Datum | B5: Frühstück | C5: Mittagessen | D5: Abendbrot | E5: zwischendurch
A6: Mittwoch | B6: Porridge | C6: Kartoffeln | D6: ETA | E6: Tee, Wasser
A7: Datum | C7: Ei, Mettwurst | D7: Clementine | E7: ColaMix
A8: 43836 | D8: Radieschen
A9: (Datum nur in dem
A10: obigen Feld eintragen) | B10: 206 | C10: 466 | D10: 280 | E10: =SUM(B10:D10) -> 952
A11: Donnerstag | B11: Porridge | C11: Frikadelle | D11: ETA | E11: Tee, Wasser
A12: Datum | C12: Kartoffeln | D12: Riegel | E12: ColaMix
A13: =A8+1 -> 43837 | C13: Kohlrabi/Wurzel
C14: Milch, Mehl
B15: 206 | C15: 472 | D15: 335 | E15: =SUM(B15:D15) -> 1013
A16: Freitag | B16: Porridge | C16: Sauerkraut | D16: ETA | E16: Tee, Wasser
A17: Datum | C17: Kartoffeln | E17: ColaMix
A18: =A13+1 -> 43838 | C18: Mettende
B20: 206 | C20: 520 | D20: 225 | E20: =SUM(B20:D20) -> 951
A21: Samstag | B21: Brötchen | C21: Hühnersuppe | D21: Rindertartar | E21: Tee, Wasser
A22: Datum | B22: Butter, Käse | C22: halbes Brötchen | D22: ETA + Svhwarzbrot | E22: ColaMix
A23: =A18+1 -> 43839 | B23: Rindertartar
B25: 403 | C25: 243 | D25: 330 | E25: =SUM(B25:D25) -> 976
A26: Sonntag | B26: Vollkornbrötchen | D26: Entenbrust mit | E26: Tee, Wasser
A27: Datum | B27: Butter, Käse, | D27: Rotkohl | E27: ColaMix
A28: =A23+1 -> 43840 | B28: Ei, Krabbensalat | E28: Spaziergang 2 St.
B30: 457 | D30: 666 | E30: =SUM(B30:D30) -> 1123
A31: Montag | E31: Tee, Wasser
A32: Datum | E32: ColaMix
A33: =A28+1 -> 43841
E35: =SUM(B35:D35) -> 0
A36: Dienstag | E36: Tee, Wasser
A37: Datum | E37: ColaMix
A38: =A33+1 -> 43842
E40: =SUM(B40:D40) -> 0

Sheet kval_Basic_20210106
A1: Auswählen | B1: Nicht vergessen in das blaue Feld das gewünschte Datum einzugeben!
A2: 1 | B2: =VLOOKUP($A$2,Htab!$C$2:$K$7,3) -> 440 | E2: =VLOOKUP($A$2,Htab!$C$2:$K$7,4) -> 140 | G2: =VLOOKUP($A$2,Htab!$C$2:$K$7,5) -> 150 | I2: =VLOOKUP($A$2,Htab!$C$2:$K$7,6) -> 160 | K2: =VLOOKUP($A$2,Htab!$C$2:$K$7,7) -> 140 | M2: =VLOOKUP($A$2,Htab!$C$2:$K$7,8) -> 160 | O2: =VLOOKUP($A$2,Htab!$C$2:$K$7,9) -> 60 | Q2: Kcal
A3: =TEXT(A4,"TTTT") -> Mittwoch | B3: Brot / Nudeln / Getr. | E3: Gemüse | G3: Obst | I3: Käse / Milch | K3: Fisch / Fleisch | M3: Fett / Öl | O3: Süßes | Q3: =SUM(B2:P2) -> 1250
A4: 44202
A5: Morgens | B5: 205 | Q5: Gesamt
A6: Mittags | B6: 109 | I6: 199 | K6: 158
A7: Nachmittags | Q7: =SUM(B10:P10) -> 993
A8: Abends | B8: 191 | E8: 33 | G8: 37 | K8: 24 | M8: 37
A9: Naschen
A10: Gesamt | B10: =SUM(B5:D9) -> 505 | E10: =SUM(E5:F9) -> 33 | G10: =SUM(G5:H9) -> 37 | I10: =SUM(I5:J9) -> 199 | K10: =SUM(K5:L9) -> 182 | M10: =SUM(M5:N9) -> 37 | O10: =SUM(O5:P9) -> 0
A11: ="Zuwenig / Zuviel bei " & VLOOKUP($A$2,Htab!$C$2:$K$7,2) & " kcal" -> Zuwenig / Zuviel bei 1250 kcal | B11: =B10-B2 -> 65 | E11: =E10-E2 -> -107 | G11: =G10-G2 -> -113 | I11: =I10-I2 -> 39 | K11: =K10-K2 -> 42 | M11: =M10-M2 -> -123 | O11: =O10-O2 -> -60
A13: Auswählen
A14: 1 | B14: =VLOOKUP($A14,Htab!$C$2:$K$7,3) -> 440 | E14: =VLOOKUP($A14,Htab!$C$2:$K$7,4) -> 140 | G14: =VLOOKUP($A14,Htab!$C$2:$K$7,5) -> 150 | I14: =VLOOKUP($A14,Htab!$C$2:$K$7,6) -> 160 | K14: =VLOOKUP($A14,Htab!$C$2:$K$7,7) -> 140 | M14: =VLOOKUP($A14,Htab!$C$2:$K$7,8) -> 160 | O14: =VLOOKUP($A14,Htab!$C$2:$K$7,9) -> 60 | Q14: Kcal
A15: =TEXT(A16,"TTTT") -> Donnerstag | B15: Brot / Nudeln / Getr. | E15: Gemüse | G15: Obst | I15: Käse / Milch | K15: Fisch / Fleisch | M15: Fett / Öl | O15: Süßes | Q15: =SUM(B14:P14) -> 1250
A16: =A4+1 -> 44203
A17: Morgens | B17: 205 | Q17: Gesamt
A18: Mittags | B18: 150 | E18: 110 | I18: 35 | K18: 176
A19: Nachmittags | Q19: =SUM(B22:P22) -> 1011
A20: Abends | B20: 150 | E20: 33 | K20: 24 | M20: 37
A21: Naschen | B21: 91
A22: Gesamt | B22: =SUM(B17:D21) -> 596 | E22: =SUM(E17:F21) -> 143 | G22: =SUM(G17:H21) -> 0 | I22: =SUM(I17:J21) -> 35 | K22: =SUM(K17:L21) -> 200 | M22: =SUM(M17:N21) -> 37 | O22: =SUM(O17:P21) -> 0
A23: ="Zuwenig / Zuviel bei " & VLOOKUP($A14,Htab!$C$2:$K$7,2) & " kcal" -> Zuwenig / Zuviel bei 1250 kcal | B23: =B22-B14 -> 156 | E23: =E22-E14 -> 3 | G23: =G22-G14 -> -150 | I23: =I22-I14 -> -125 | K23: =K22-K14 -> 60 | M23: =M22-M14 -> -123 | O23: =O22-O14 -> -60
A25: Auswählen
A26: 1 | B26: =VLOOKUP($A26,Htab!$C$2:$K$7,3) -> 440 | E26: =VLOOKUP($A26,Htab!$C$2:$K$7,4) -> 140 | G26: =VLOOKUP($A26,Htab!$C$2:$K$7,5) -> 150 | I26: =VLOOKUP($A26,Htab!$C$2:$K$7,6) -> 160 | K26: =VLOOKUP($A26,Htab!$C$2:$K$7,7) -> 140 | M26: =VLOOKUP($A26,Htab!$C$2:$K$7,8) -> 160 | O26: =VLOOKUP($A26,Htab!$C$2:$K$7,9) -> 60 | Q26: Kcal
A27: =TEXT(A28,"TTTT") -> Freitag | B27: Brot / Nudeln / Getr. | E27: Gemüse | G27: Obst | I27: Käse / Milch | K27: Fisch / Fleisch | M27: Fett / Öl | O27: Süßes | Q27: =SUM(B26:P26) -> 1250
A28: =A16+1 -> 44204
A29: Morgens | B29: 205 | Q29: Gesamt
A30: Mittags | B30: 109 | E30: 62 | K30: 349
A31: Nachmittags | Q31: =SUM(B34:P34) -> 950
A32: Abends | B32: 56 | E32: 33 | I32: 75 | K32: 24 | M32: 37
A33: Naschen
A34: Gesamt | B34: =SUM(B29:D33) -> 370 | E34: =SUM(E29:F33) -> 95 | G34: =SUM(G29:H33) -> 0 | I34: =SUM(I29:J33) -> 75 | K34: =SUM(K29:L33) -> 373 | M34: =SUM(M29:N33) -> 37 | O34: =SUM(O29:P33) -> 0
A35: ="Zuwenig / Zuviel bei " & VLOOKUP($A26,Htab!$C$2:$K$7,2) & " kcal" -> Zuwenig / Zuviel bei 1250 kcal | B35: =B34-B26 -> -70 | E35: =E34-E26 -> -45 | G35: =G34-G26 -> -150 | I35: =I34-I26 -> -85 | K35: =K34-K26 -> 233 | M35: =M34-M26 -> -123 | O35: =O34-O26 -> -60
A37: Auswählen
A38: 1 | B38: =VLOOKUP($A38,Htab!$C$2:$K$7,3) -> 440 | E38: =VLOOKUP($A38,Htab!$C$2:$K$7,4) -> 140 | G38: =VLOOKUP($A38,Htab!$C$2:$K$7,5) -> 150 | I38: =VLOOKUP($A38,Htab!$C$2:$K$7,6) -> 160 | K38: =VLOOKUP($A38,Htab!$C$2:$K$7,7) -> 140 | M38: =VLOOKUP($A38,Htab!$C$2:$K$7,8) -> 160 | O38: =VLOOKUP($A38,Htab!$C$2:$K$7,9) -> 60 | Q38: Kcal
A39: =TEXT(A40,"TTTT") -> Samstag | B39: Brot / Nudeln / Getr. | E39: Gemüse | G39: Obst | I39: Käse / Milch | K39: Fisch / Fleisch | M39: Fett / Öl | O39: Süßes | Q39: =SUM(B38:P38) -> 1250
A40: =A28+1 -> 44205
A41: Morgens | B41: 171 | I41: 102 | K41: 19 | M41: 111 | Q41: Gesamt
A42: Mittags
A43: Nachmittags | B43: 152 | E43: 40 | K43: 40 | M43: 10 | Q43: =SUM(B46:P46) -> 974
A44: Abends | B44: 138 | E44: 33 | I44: 75 | K44: 46 | M44: 37
A45: Naschen
A46: Gesamt | B46: =SUM(B41:D45) -> 461 | E46: =SUM(E41:F45) -> 73 | G46: =SUM(G41:H45) -> 0 | I46: =SUM(I41:J45) -> 177 | K46: =SUM(K41:L45) -> 105 | M46: =SUM(M41:N45) -> 158 | O46: =SUM(O41:P45) -> 0
A47: ="Zuwenig / Zuviel bei " & VLOOKUP($A38,Htab!$C$2:$K$7,2) & " kcal" -> Zuwenig / Zuviel bei 1250 kcal | B47: =B46-B38 -> 21 | E47: =E46-E38 -> -67 | G47: =G46-G38 -> -150 | I47: =I46-I38 -> 17 | K47: =K46-K38 -> -35 | M47: =M46-M38 -> -2 | O47: =O46-O38 -> -60
A49: Auswählen
A50: 1 | B50: =VLOOKUP($A50,Htab!$C$2:$K$7,3) -> 440 | E50: =VLOOKUP($A50,Htab!$C$2:$K$7,4) -> 140 | G50: =VLOOKUP($A50,Htab!$C$2:$K$7,5) -> 150 | I50: =VLOOKUP($A50,Htab!$C$2:$K$7,6) -> 160 | K50: =VLOOKUP($A50,Htab!$C$2:$K$7,7) -> 140 | M50: =VLOOKUP($A50,Htab!$C$2:$K$7,8) -> 160 | O50: =VLOOKUP($A50,Htab!$C$2:$K$7,9) -> 60 | Q50: Kcal
A51: =TEXT(A52,"TTTT") -> Sonntag | B51: Brot / Nudeln / Getr. | E51: Gemüse | G51: Obst | I51: Käse / Milch | K51: Fisch / Fleisch | M51: Fett / Öl | O51: Süßes | Q51: =SUM(B50:P50) -> 1250
A52: =A40+1 -> 44206
A53: Morgens | B53: 170 | I53: 176 | K53: 37 | M53: 74 | Q53: Gesamt
A54: Mittags
A55: Nachmittags | Q55: =SUM(B58:P58) -> 1122
A56: Abends | B56: 109 | E56: 114 | G56: 109 | K56: 333
A57: Naschen
A58: Gesamt | B58: =SUM(B53:D57) -> 279 | E58: =SUM(E53:F57) -> 114 | G58: =SUM(G53:H57) -> 109 | I58: =SUM(I53:J57) -> 176 | K58: =SUM(K53:L57) -> 370 | M58: =SUM(M53:N57) -> 74 | O58: =SUM(O53:P57) -> 0
A59: ="Zuwenig / Zuviel bei " & VLOOKUP($A50,Htab!$C$2:$K$7,2) & " kcal" -> Zuwenig / Zuviel bei 1250 kcal | B59: =B58-B50 -> -161 | E59: =E58-E50 -> -26 | G59: =G58-G50 -> -41 | I59: =I58-I50 -> 16 | K59: =K58-K50 -> 230 | M59: =M58-M50 -> -86 | O59: =O58-O50 -> -60
A61: Auswählen
A62: 1 | B62: =VLOOKUP($A62,Htab!$C$2:$K$7,3) -> 440 | E62: =VLOOKUP($A62,Htab!$C$2:$K$7,4) -> 140 | G62: =VLOOKUP($A62,Htab!$C$2:$K$7,5) -> 150 | I62: =VLOOKUP($A62,Htab!$C$2:$K$7,6) -> 160 | K62: =VLOOKUP($A62,Htab!$C$2:$K$7,7) -> 140 | M62: =VLOOKUP($A62,Htab!$C$2:$K$7,8) -> 160 | O62: =VLOOKUP($A62,Htab!$C$2:$K$7,9) -> 60 | Q62: Kcal
A63: =TEXT(A64,"TTTT") -> Montag | B63: Brot / Nudeln / Getr. | E63: Gemüse | G63: Obst | I63: Käse / Milch | K63: Fisch / Fleisch | M63: Fett / Öl | O63: Süßes | Q63: =SUM(B62:P62) -> 1250
A64: =A52+1 -> 44207
A65: Morgens | Q65: Gesamt
A66: Mittags
A67: Nachmittags | Q67: =SUM(B70:P70) -> 0
A68: Abends
A69: Naschen
A70: Gesamt | B70: =SUM(B65:D69) -> 0 | E70: =SUM(E65:F69) -> 0 | G70: =SUM(G65:H69) -> 0 | I70: =SUM(I65:J69) -> 0 | K70: =SUM(K65:L69) -> 0 | M70: =SUM(M65:N69) -> 0 | O70: =SUM(O65:P69) -> 0
A71: ="Zuwenig / Zuviel bei " & VLOOKUP($A62,Htab!$C$2:$K$7,2) & " kcal" -> Zuwenig / Zuviel bei 1250 kcal | B71: =B70-B62 -> -440 | E71: =E70-E62 -> -140 | G71: =G70-G62 -> -150 | I71: =I70-I62 -> -160 | K71: =K70-K62 -> -140 | M71: =M70-M62 -> -160 | O71: =O70-O62 -> -60
A73: Auswählen
A74: 1 | B74: =VLOOKUP($A74,Htab!$C$2:$K$7,3) -> 440 | E74: =VLOOKUP($A74,Htab!$C$2:$K$7,4) -> 140 | G74: =VLOOKUP($A74,Htab!$C$2:$K$7,5) -> 150 | I74: =VLOOKUP($A74,Htab!$C$2:$K$7,6) -> 160 | K74: =VLOOKUP($A74,Htab!$C$2:$K$7,7) -> 140 | M74: =VLOOKUP($A74,Htab!$C$2:$K$7,8) -> 160 | O74: =VLOOKUP($A74,Htab!$C$2:$K$7,9) -> 60 | Q74: Kcal
A75: =TEXT(A76,"TTTT") -> Dienstag | B75: Brot / Nudeln / Getr. | E75: Gemüse | G75: Obst | I75: Käse / Milch | K75: Fisch / Fleisch | M75: Fett / Öl | O75: Süßes | Q75: =SUM(B74:P74) -> 1250
A76: =A64+1 -> 44208
A77: Morgens | Q77: Gesamt
A78: Mittags
A79: Nachmittags | Q79: =SUM(B82:P82) -> 0
A80: Abends
A81: Naschen
A82: Gesamt | B82: =SUM(B77:D81) -> 0 | E82: =SUM(E77:F81) -> 0 | G82: =SUM(G77:H81) -> 0 | I82: =SUM(I77:J81) -> 0 | K82: =SUM(K77:L81) -> 0 | M82: =SUM(M77:N81) -> 0 | O82: =SUM(O77:P81) -> 0
A83: ="Zuwenig / Zuviel bei " & VLOOKUP($A74,Htab!$C$2:$K$7,2) & " kcal" -> Zuwenig / Zuviel bei 1250 kcal | B83: =B82-B74 -> -440 | E83: =E82-E74 -> -140 | G83: =G82-G74 -> -150 | I83: =I82-I74 -> -160 | K83: =K82-K74 -> -140 | M83: =M82-M74 -> -160 | O83: =O82-O74 -> -60

Sheet kcal_Basic_20200106
A1: Mit x in der ersten Spalte auswählen | C1: Brot / Nudeln / Getr. | F1: Gem. | H1: Obst | J1: Käse / Milch | L1: Fisch / Fleisch | N1: Fett / Öl | P1: Süßes
A2: x | B2: =IF(SUM(C2:Q2)<>1250,"Fehler",SUM(C2:Q2)) -> 1250 | C2: 440 | F2: 140 | H2: 150 | J2: 160 | L2: 140 | N2: 160 | P2: 60
B3: =IF(SUM(C3:Q3)<>1500,"Fehler",SUM(C3:Q3)) -> 1500 | C3: 530 | F3: 180 | H3: 170 | J3: 190 | L3: 160 | N3: 200 | P3: 70
B4: =IF(SUM(C4:Q4)<>1750,"Fehler",SUM(C4:Q4)) -> 1750 | C4: 600 | F4: 190 | H4: 180 | J4: 210 | L4: 170 | N4: 240 | P4: 160
B5: =IF(SUM(C5:Q5)<>2000,"Fehler",SUM(C5:Q5)) -> 2000 | C5: 680 | F5: 200 | H5: 200 | J5: 240 | L5: 200 | N5: 280 | P5: 200
B6: =IF(SUM(C6:Q6)<>2250,"Fehler",SUM(C6:Q6)) -> 2250 | C6: 770 | F6: 230 | H6: 230 | J6: 270 | L6: 220 | N6: 310 | P6: 220
B7: =IF(SUM(C7:Q7)<>2500,"Fehler",SUM(C7:Q7)) -> 2500 | C7: 850 | F7: 250 | H7: 250 | J7: 300 | L7: 250 | N7: 350 | P7: 250
A9: Nicht vergessen in das blaue Feld das gewünschte Datum einzugeben!
A10: =TEXT(A11,"TTTT") -> Mittwoch | B10: Brot / Nudeln / Getr. | E10: Gem. | G10: Obst | I10: Käse / Milch | K10: Fisch / Fleisch | M10: Fett / Öl | O10: Süßes | Q10: =A11 -> 44202
A11: 44202 | Q11: =WEEKDAY(Q10) -> 4
A12: =VLOOKUP("x",$A$2:$B$7,2) -> 1250 | B12: =VLOOKUP("x",$A$2:$P$7,3) -> 440 | E12: =VLOOKUP("x",$A$2:$P$7,6) -> 140 | G12: =VLOOKUP("x",$A$2:$P$7,8) -> 150 | I12: =VLOOKUP("x",$A$2:$P$7,10) -> 160 | K12: =VLOOKUP("x",$A$2:$P$7,12) -> 140 | M12: =VLOOKUP("x",$A$2:$P$7,14) -> 160 | O12: =VLOOKUP("x",$A$2:$P$7,16) -> 60
A13: Morgens | B13: 205 | Q13: ="GESAMT: " & SUM(B18:P18) -> GESAMT: 993
A14: Mittags | B14: 109 | I14: 199 | K14: 158
A15: Nachmittags
A16: Abends | B16: 191 | E16: 33 | G16: 37 | K16: 24 | M16: 37
A17: Naschen
A18: Gesamt | B18: =SUM(B13:D17) -> 505 | E18: =SUM(E13:F17) -> 33 | G18: =SUM(G13:H17) -> 37 | I18: =SUM(I13:J17) -> 199 | K18: =SUM(K13:L17) -> 182 | M18: =SUM(M13:N17) -> 37 | O18: =SUM(O13:P17) -> 0
A19: ="Zuwenig / Zuviel bei " & $A12 & " kcal" -> Zuwenig / Zuviel bei 1250 kcal | B19: =B18-B12 -> 65 | E19: =E18-E12 -> -107 | G19: =G18-G12 -> -113 | I19: =I18-I12 -> 39 | K19: =K18-K12 -> 42 | M19: =M18-M12 -> -123 | O19: =O18-O12 -> -60
A21: =TEXT(A22,"TTTT") -> Donnerstag | B21: Brot / Nudeln / Getr. | E21: Gem. | G21: Obst | I21: Käse / Milch | K21: Fisch / Fleisch | M21: Fett / Öl | O21: Süßes | Q21: =A22 -> 44203
A22: =A11+1 -> 44203 | Q22: =WEEKDAY(Q21) -> 5
A23: =VLOOKUP("x",$A$2:$B$7,2) -> 1250 | B23: =VLOOKUP("x",$A$2:$P$7,3) -> 440 | E23: =VLOOKUP("x",$A$2:$P$7,6) -> 140 | G23: =VLOOKUP("x",$A$2:$P$7,8) -> 150 | I23: =VLOOKUP("x",$A$2:$P$7,10) -> 160 | K23: =VLOOKUP("x",$A$2:$P$7,12) -> 140 | M23: =VLOOKUP("x",$A$2:$P$7,14) -> 160 | O23: =VLOOKUP("x",$A$2:$P$7,16) -> 60
A24: Morgens | B24: 205 | Q24: ="GESAMT: " & SUM(B29:P29) -> GESAMT: 1011
A25: Mittags | B25: 150 | E25: 110 | I25: 35 | K25: 176
A26: Nachmittags
A27: Abends | B27: 150 | E27: 33 | K27: 24 | M27: 37
A28: Naschen | B28: 91
A29: Gesamt | B29: =SUM(B24:D28) -> 596 | E29: =SUM(E24:F28) -> 143 | G29: =SUM(G24:H28) -> 0 | I29: =SUM(I24:J28) -> 35 | K29: =SUM(K24:L28) -> 200 | M29: =SUM(M24:N28) -> 37 | O29: =SUM(O24:P28) -> 0
A30: ="Zuwenig / Zuviel bei " & $A23 & " kcal" -> Zuwenig / Zuviel bei 1250 kcal | B30: =B29-B23 -> 156 | E30: =E29-E23 -> 3 | G30: =G29-G23 -> -150 | I30: =I29-I23 -> -125 | K30: =K29-K23 -> 60 | M30: =M29-M23 -> -123 | O30: =O29-O23 -> -60
A32: =TEXT(A33,"TTTT") -> Freitag | B32: Brot / Nudeln / Getr. | E32: Gem. | G32: Obst | I32: Käse / Milch | K32: Fisch / Fleisch | M32: Fett / Öl | O32: Süßes | Q32: =A33 -> 44204
A33: =A22+1 -> 44204 | Q33: =WEEKDAY(Q32) -> 6
A34: =VLOOKUP("x",$A$2:$B$7,2) -> 1250 | B34: =VLOOKUP("x",$A$2:$P$7,3) -> 440 | E34: =VLOOKUP("x",$A$2:$P$7,6) -> 140 | G34: =VLOOKUP("x",$A$2:$P$7,8) -> 150 | I34: =VLOOKUP("x",$A$2:$P$7,10) -> 160 | K34: =VLOOKUP("x",$A$2:$P$7,12) -> 140 | M34: =VLOOKUP("x",$A$2:$P$7,14) -> 160 | O34: =VLOOKUP("x",$A$2:$P$7,16) -> 60
A35: Morgens | B35: 205 | Q35: ="GESAMT: " & SUM(B40:P40) -> GESAMT: 950
A36: Mittags | B36: 109 | E36: 62 | K36: 349
A37: Nachmittags
A38: Abends | B38: 56 | E38: 33 | I38: 75 | K38: 24 | M38: 37
A39: Naschen
A40: Gesamt | B40: =SUM(B35:D39) -> 370 | E40: =SUM(E35:F39) -> 95 | G40: =SUM(G35:H39) -> 0 | I40: =SUM(I35:J39) -> 75 | K40: =SUM(K35:L39) -> 373 | M40: =SUM(M35:N39) -> 37 | O40: =SUM(O35:P39) -> 0
A41: ="Zuwenig / Zuviel bei " & $A34 & " kcal" -> Zuwenig / Zuviel bei 1250 kcal | B41: =B40-B34 -> -70 | E41: =E40-E34 -> -45 | G41: =G40-G34 -> -150 | I41: =I40-I34 -> -85 | K41: =K40-K34 -> 233 | M41: =M40-M34 -> -123 | O41: =O40-O34 -> -60
A44: =TEXT(A45,"TTTT") -> Samstag | B44: Brot / Nudeln / Getr. | E44: Gem. | G44: Obst | I44: Käse / Milch | K44: Fisch / Fleisch | M44: Fett / Öl | O44: Süßes | Q44: =A45 -> 44205
A45: =A33+1 -> 44205 | Q45: =WEEKDAY(Q44) -> 7
A46: =VLOOKUP("x",$A$2:$B$7,2) -> 1250 | B46: =VLOOKUP("x",$A$2:$P$7,3) -> 440 | E46: =VLOOKUP("x",$A$2:$P$7,6) -> 140 | G46: =VLOOKUP("x",$A$2:$P$7,8) -> 150 | I46: =VLOOKUP("x",$A$2:$P$7,10) -> 160 | K46: =VLOOKUP("x",$A$2:$P$7,12) -> 140 | M46: =VLOOKUP("x",$A$2:$P$7,14) -> 160 | O46: =VLOOKUP("x",$A$2:$P$7,16) -> 60
A47: Morgens | B47: 171 | I47: 102 | K47: 19 | M47: 111 | Q47: ="GESAMT: " & SUM(B52:P52) -> GESAMT: 645
A48: Mittags
A49: Nachmittags | B49: 152 | E49: 40 | K49: 40 | M49: 10
A50: Abends
A51: Naschen
A52: Gesamt | B52: =SUM(B47:D51) -> 323 | E52: =SUM(E47:F51) -> 40 | G52: =SUM(G47:H51) -> 0 | I52: =SUM(I47:J51) -> 102 | K52: =SUM(K47:L51) -> 59 | M52: =SUM(M47:N51) -> 121 | O52: =SUM(O47:P51) -> 0
A53: ="Zuwenig / Zuviel bei " & $A46 & " kcal" -> Zuwenig / Zuviel bei 1250 kcal | B53: =B52-B46 -> -117 | E53: =E52-E46 -> -100 | G53: =G52-G46 -> -150 | I53: =I52-I46 -> -58 | K53: =K52-K46 -> -81 | M53: =M52-M46 -> -39 | O53: =O52-O46 -> -60
A55: =TEXT(A56,"TTTT") -> Sonntag | B55: Brot / Nudeln / Getr. | E55: Gem. | G55: Obst | I55: Käse / Milch | K55: Fisch / Fleisch | M55: Fett / Öl | O55: Süßes | Q55: =A56 -> 44206
A56: =A45+1 -> 44206 | Q56: =WEEKDAY(Q55) -> 1
A57: =VLOOKUP("x",$A$2:$B$7,2) -> 1250 | B57: =VLOOKUP("x",$A$2:$P$7,3) -> 440 | E57: =VLOOKUP("x",$A$2:$P$7,6) -> 140 | G57: =VLOOKUP("x",$A$2:$P$7,8) -> 150 | I57: =VLOOKUP("x",$A$2:$P$7,10) -> 160 | K57: =VLOOKUP("x",$A$2:$P$7,12) -> 140 | M57: =VLOOKUP("x",$A$2:$P$7,14) -> 160 | O57: =VLOOKUP("x",$A$2:$P$7,16) -> 60
A58: Morgens | Q58: ="GESAMT: " & SUM(B63:P63) -> GESAMT: 0
A59: Mittags
A60: Nachmittags
A61: Abends
A62: Naschen
A63: Gesamt | B63: =SUM(B58:D62) -> 0 | E63: =SUM(E58:F62) -> 0 | G63: =SUM(G58:H62) -> 0 | I63: =SUM(I58:J62) -> 0 | K63: =SUM(K58:L62) -> 0 | M63: =SUM(M58:N62) -> 0 | O63: =SUM(O58:P62) -> 0
A64: ="Zuwenig / Zuviel bei " & $A57 & " kcal" -> Zuwenig / Zuviel bei 1250 kcal | B64: =B63-B57 -> -440 | E64: =E63-E57 -> -140 | G64: =G63-G57 -> -150 | I64: =I63-I57 -> -160 | K64: =K63-K57 -> -140 | M64: =M63-M57 -> -160 | O64: =O63-O57 -> -60
A66: =TEXT(A67,"TTTT") -> Montag | B66: Brot / Nudeln / Getr. | E66: Gem. | G66: Obst | I66: Käse / Milch | K66: Fisch / Fleisch | M66: Fett / Öl | O66: Süßes | Q66: =A67 -> 44207
A67: =A56+1 -> 44207 | Q67: =WEEKDAY(Q66) -> 2
A68: =VLOOKUP("x",$A$2:$B$7,2) -> 1250 | B68: =VLOOKUP("x",$A$2:$P$7,3) -> 440 | E68: =VLOOKUP("x",$A$2:$P$7,6) -> 140 | G68: =VLOOKUP("x",$A$2:$P$7,8) -> 150 | I68: =VLOOKUP("x",$A$2:$P$7,10) -> 160 | K68: =VLOOKUP("x",$A$2:$P$7,12) -> 140 | M68: =VLOOKUP("x",$A$2:$P$7,14) -> 160 | O68: =VLOOKUP("x",$A$2:$P$7,16) -> 60
A69: Morgens | Q69: ="GESAMT: " & SUM(B74:P74) -> GESAMT: 0
A70: Mittags
A71: Nachmittags
A72: Abends
A73: Naschen
A74: Gesamt | B74: =SUM(B69:D73) -> 0 | E74: =SUM(E69:F73) -> 0 | G74: =SUM(G69:H73) -> 0 | I74: =SUM(I69:J73) -> 0 | K74: =SUM(K69:L73) -> 0 | M74: =SUM(M69:N73) -> 0 | O74: =SUM(O69:P73) -> 0
A75: ="Zuwenig / Zuviel bei " & $A68 & " kcal" -> Zuwenig / Zuviel bei 1250 kcal | B75: =B74-B68 -> -440 | E75: =E74-E68 -> -140 | G75: =G74-G68 -> -150 | I75: =I74-I68 -> -160 | K75: =K74-K68 -> -140 | M75: =M74-M68 -> -160 | O75: =O74-O68 -> -60
A77: =TEXT(A78,"TTTT") -> Dienstag | B77: Brot / Nudeln / Getr. | E77: Gem. | G77: Obst | I77: Käse / Milch | K77: Fisch / Fleisch | M77: Fett / Öl | O77: Süßes | Q77: =A78 -> 44208
A78: =A67+1 -> 44208 | Q78: =WEEKDAY(Q77) -> 3
A79: =VLOOKUP("x",$A$2:$B$7,2) -> 1250 | B79: =VLOOKUP("x",$A$2:$P$7,3) -> 440 | E79: =VLOOKUP("x",$A$2:$P$7,6) -> 140 | G79: =VLOOKUP("x",$A$2:$P$7,8) -> 150 | I79: =VLOOKUP("x",$A$2:$P$7,10) -> 160 | K79: =VLOOKUP("x",$A$2:$P$7,12) -> 140 | M79: =VLOOKUP("x",$A$2:$P$7,14) -> 160 | O79: =VLOOKUP("x",$A$2:$P$7,16) -> 60
A80: Morgens | Q80: ="GESAMT: " & SUM(B85:P85) -> GESAMT: 0
A81: Mittags
A82: Nachmittags
A83: Abends
A84: Naschen
A85: Gesamt | B85: =SUM(B80:D84) -> 0 | E85: =SUM(E80:F84) -> 0 | G85: =SUM(G80:H84) -> 0 | I85: =SUM(I80:J84) -> 0 | K85: =SUM(K80:L84) -> 0 | M85: =SUM(M80:N84) -> 0 | O85: =SUM(O80:P84) -> 0
A86: ="Zuwenig / Zuviel bei " & $A79 & " kcal" -> Zuwenig / Zuviel bei 1250 kcal | B86: =B85-B79 -> -440 | E86: =E85-E79 -> -140 | G86: =G85-G79 -> -150 | I86: =I85-I79 -> -160 | K86: =K85-K79 -> -140 | M86: =M85-M79 -> -160 | O86: =O85-O79 -> -60

Sheet Mz_20201230
A2: Name: | B2: Dieter Ascheberg | E2: 44195
A3: Arbeitsblatt für die | B3: 2 | C3: Stabilisierungswoche | E3: Datum
A4: mit | B4: 0 | C4: Tüten pro Tag
A5: Wochentag / Datum | B5: Frühstück | C5: Mittagessen | D5: Abendbrot | E5: zwischendurch
A6: Mittwoch | B6: Porridge | C6: Blumenkohl- | D6: Schwarzbrot, | E6: Tee, Wasser
A7: Datum | C7: auflauf | D7: Knäcke, Rinder- | E7: ColaMix
A8: 44195 | D8: tartar, Hüttenkäse | E8: 133/51/67
A9: (Datum nur in dem | E9: 141/59/70
A10: obigen Feld eintragen) | B10: 205 | C10: 411 | D10: 468 | E10: =SUM(B10:D10) -> 1084
A11: Donnerstag | B11: Porridge | C11: Eisbergsalat | D11: Rindertartar, Brot | E11: Wasser
A12: Datum | C12: Joghurt, Zitrone | D12: Zucchinisuppe | E12: ColaMix
A13: =A8+1 -> 44196 | C13: Ei, Schwarzbr. | D13: Lachs | E13: 124/58/66
C14: Schinken | D14: Rotwein mit+ohne
B15: 205 | C15: 411 | D15: 756 | E15: =SUM(B15:D15) -> 1372
A16: Freitag | B16: Brötchen,Käse | D16: Blumenkohlauflauf | E16: Wasser
A17: Datum | B17: Rindertartar, | D17: Clementine | E17: ColaMix
A18: =A13+1 -> 44197 | B18: Ei,Käse,Knäcke | E18: 129/54/77
B20: 571 | D20: 379 | E20: =SUM(B20:D20) -> 950
A21: Samstag | B21: Porridge | C21: Endiviensalat | D21: Brot, Knäcke, | E21: Wasser, Tee
A22: Datum | C22: Vignairette, | D22: Käse, Schinken, | E22: ColaMix
A23: =A18+1 -> 44198 | C23: Putenbrust | D23: Butter, Hüttenk. | E23: 142/62/76
C24: Weintrauben
B25: 205 | C25: 242 | D25: 577 | E25: =SUM(B25:D25) -> 1024
A26: Sonntag | B26: Brötchen, | D26: Brokkoli, Kart. | E26: Wasser, Tee
A27: Datum | B27: Knäcke, Ei, | D27: Rindergulasch | E27: ColaMix
A28: =A23+1 -> 44199 | B28: Käse, Fleisch- | D28: Mango-Eis (1K)
B29: salat
B30: 602 | D30: 305 | E30: =SUM(B30:D30) -> 907
A31: Montag | B31: Schokocreme | C31: Blumenkohl, | D31: ETA | E31: Wasser, Tee
A32: Datum | C32: Gulasch | D32: Hüttenkäse | E32: ColaMix
A33: =A28+1 -> 44200 | C33: Kartoffeln
B35: 216 | C35: 303 | D35: 440 | E35: =SUM(B35:D35) -> 959
A36: Dienstag | B36: Schokocreme | C36: Vignairette | D36: Butterstollen | E36: Wasser, Tee
A37: Datum | C37: Endiviensalat | D37: ETA | E37: ColaMix
A38: =A33+1 -> 44201 | C38: Pengasius
C39: Spinat
B40: 216 | C40: 456 | D40: 385 | E40: =SUM(B40:D40) -> 1057

Sheet kcal_Basic_20201230
A1: Mit x in der ersten Spalte auswählen | C1: Brot / Nudeln / Getr. | F1: Gem. | H1: Obst | J1: Käse / Milch | L1: Fisch / Fleisch | N1: Fett / Öl | P1: Süßes
A2: x | B2: =IF(SUM(C2:Q2)<>1250,"Fehler",SUM(C2:Q2)) -> 1250 | C2: 440 | F2: 140 | H2: 150 | J2: 160 | L2: 140 | N2: 160 | P2: 60
B3: =IF(SUM(C3:Q3)<>1500,"Fehler",SUM(C3:Q3)) -> 1500 | C3: 530 | F3: 180 | H3: 170 | J3: 190 | L3: 160 | N3: 200 | P3: 70
B4: =IF(SUM(C4:Q4)<>1750,"Fehler",SUM(C4:Q4)) -> 1750 | C4: 600 | F4: 190 | H4: 180 | J4: 210 | L4: 170 | N4: 240 | P4: 160
B5: =IF(SUM(C5:Q5)<>2000,"Fehler",SUM(C5:Q5)) -> 2000 | C5: 680 | F5: 200 | H5: 200 | J5: 240 | L5: 200 | N5: 280 | P5: 200
B6: =IF(SUM(C6:Q6)<>2250,"Fehler",SUM(C6:Q6)) -> 2250 | C6: 770 | F6: 230 | H6: 230 | J6: 270 | L6: 220 | N6: 310 | P6: 220
B7: =IF(SUM(C7:Q7)<>2500,"Fehler",SUM(C7:Q7)) -> 2500 | C7: 850 | F7: 250 | H7: 250 | J7: 300 | L7: 250 | N7: 350 | P7: 250
A10: =IF(Q11=1,"Sonntag",IF(Q11=2,"Montag",IF(Q11=3,"Dienstag",IF(Q11=4,"Mittwoch",IF(#REF!=5,"Donnerstag",IF(Q11=6,"Freitag","Samstag")))))) -> Mittwoch | B10: Brot / Nudeln / Getr. | E10: Gem. | G10: Obst | I10: Käse / Milch | K10: Fisch / Fleisch | M10: Fett / Öl | O10: Süßes | Q10: =A11 -> 44195
A11: 44195 | Q11: =WEEKDAY(Q10) -> 4
A12: =VLOOKUP("x",$A$2:$B$7,2) -> 1250 | B12: =VLOOKUP("x",$A$2:$P$7,3) -> 440 | E12: =VLOOKUP("x",$A$2:$P$7,6) -> 140 | G12: =VLOOKUP("x",$A$2:$P$7,8) -> 150 | I12: =VLOOKUP("x",$A$2:$P$7,10) -> 160 | K12: =VLOOKUP("x",$A$2:$P$7,12) -> 140 | M12: =VLOOKUP("x",$A$2:$P$7,14) -> 160 | O12: =VLOOKUP("x",$A$2:$P$7,16) -> 60
A13: Morgens | B13: 205 | Q13: ="GESAMT: " & SUM(B18:P18) -> GESAMT: 1084
A14: Mittags | B14: 177 | E14: 30 | I14: 114 | K14: 33 | M14: 56
A15: Nachmittags
A16: Abends | B16: 163 | I16: 116 | K16: 42 | M16: 148
A17: Naschen
A18: Gesamt | B18: =SUM(B13:D17) -> 545 | E18: =SUM(E13:F17) -> 30 | G18: =SUM(G13:H17) -> 0 | I18: =SUM(I13:J17) -> 230 | K18: =SUM(K13:L17) -> 75 | M18: =SUM(M13:N17) -> 204 | O18: =SUM(O13:P17) -> 0
A19: ="Zuwenig / Zuviel bei " & $A12 & " kcal" -> Zuwenig / Zuviel bei 1250 kcal | B19: =B18-B12 -> 105 | E19: =E18-E12 -> -110 | G19: =G18-G12 -> -150 | I19: =I18-I12 -> 70 | K19: =K18-K12 -> -65 | M19: =M18-M12 -> 44 | O19: =O18-O12 -> -60
A21: =IF(Q22=1,"Sonntag",IF(Q22=2,"Montag",IF(Q22=3,"Dienstag",IF(Q22=4,"Mittwoch",IF(Q22=5,"Donnerstag",IF(Q22=6,"Freitag","Samstag")))))) -> Donnerstag | B21: Brot / Nudeln / Getr. | E21: Gem. | G21: Obst | I21: Käse / Milch | K21: Fisch / Fleisch | M21: Fett / Öl | O21: Süßes | Q21: =A22 -> 44196
A22: =A11+1 -> 44196 | Q22: =WEEKDAY(Q21) -> 5
A23: =VLOOKUP("x",$A$2:$B$7,2) -> 1250 | B23: =VLOOKUP("x",$A$2:$P$7,3) -> 440 | E23: =VLOOKUP("x",$A$2:$P$7,6) -> 140 | G23: =VLOOKUP("x",$A$2:$P$7,8) -> 150 | I23: =VLOOKUP("x",$A$2:$P$7,10) -> 160 | K23: =VLOOKUP("x",$A$2:$P$7,12) -> 140 | M23: =VLOOKUP("x",$A$2:$P$7,14) -> 160 | O23: =VLOOKUP("x",$A$2:$P$7,16) -> 60
A24: Morgens | B24: 205 | Q24: ="GESAMT: " & SUM(B29:P29) -> GESAMT: 1373
A25: Mittags | B25: 65 | E25: 11 | G25: 16 | I25: 279 | K25: 41
A26: Nachmittags
A27: Abends | B27: 88 | E27: 30 | K27: 210 | O27: 428
A28: Naschen
A29: Gesamt | B29: =SUM(B24:D28) -> 358 | E29: =SUM(E24:F28) -> 41 | G29: =SUM(G24:H28) -> 16 | I29: =SUM(I24:J28) -> 279 | K29: =SUM(K24:L28) -> 251 | M29: =SUM(M24:N28) -> 0 | O29: =SUM(O24:P28) -> 428
A30: ="Zuwenig / Zuviel bei " & $A23 & " kcal" -> Zuwenig / Zuviel bei 1250 kcal | B30: =B29-B23 -> -82 | E30: =E29-E23 -> -99 | G30: =G29-G23 -> -134 | I30: =I29-I23 -> 119 | K30: =K29-K23 -> 111 | M30: =M29-M23 -> -160 | O30: =O29-O23 -> 368
A32: =IF(Q33=1,"Sonntag",IF(Q33=2,"Montag",IF(Q33=3,"Dienstag",IF(Q33=4,"Mittwoch",IF(Q33=5,"Donnerstag",IF(Q33=6,"Freitag","Samstag")))))) -> Freitag | B32: Brot / Nudeln / Getr. | E32: Gem. | G32: Obst | I32: Käse / Milch | K32: Fisch / Fleisch | M32: Fett / Öl | O32: Süßes | Q32: =A33 -> 44197
A33: =A22+1 -> 44197 | Q33: =WEEKDAY(Q32) -> 6
A34: =VLOOKUP("x",$A$2:$B$7,2) -> 1250 | B34: =VLOOKUP("x",$A$2:$P$7,3) -> 440 | E34: =VLOOKUP("x",$A$2:$P$7,6) -> 140 | G34: =VLOOKUP("x",$A$2:$P$7,8) -> 150 | I34: =VLOOKUP("x",$A$2:$P$7,10) -> 160 | K34: =VLOOKUP("x",$A$2:$P$7,12) -> 140 | M34: =VLOOKUP("x",$A$2:$P$7,14) -> 160 | O34: =VLOOKUP("x",$A$2:$P$7,16) -> 60
A35: Morgens | B35: 225 | I35: 313 | K35: 32 | Q35: ="GESAMT: " & SUM(B40:P40) -> GESAMT: 949
A36: Mittags
A37: Nachmittags
A38: Abends | B38: 72 | E38: 30 | G38: 74 | I38: 114 | K38: 33 | M38: 56
A39: Naschen
A40: Gesamt | B40: =SUM(B35:D39) -> 297 | E40: =SUM(E35:F39) -> 30 | G40: =SUM(G35:H39) -> 74 | I40: =SUM(I35:J39) -> 427 | K40: =SUM(K35:L39) -> 65 | M40: =SUM(M35:N39) -> 56 | O40: =SUM(O35:P39) -> 0
A41: ="Zuwenig / Zuviel bei " & $A34 & " kcal" -> Zuwenig / Zuviel bei 1250 kcal | B41: =B40-B34 -> -143 | E41: =E40-E34 -> -110 | G41: =G40-G34 -> -76 | I41: =I40-I34 -> 267 | K41: =K40-K34 -> -75 | M41: =M40-M34 -> -104 | O41: =O40-O34 -> -60
A43: =IF(Q44=1,"Sonntag",IF(Q44=2,"Montag",IF(Q44=3,"Dienstag",IF(Q44=4,"Mittwoch",IF(Q44=5,"Donnerstag",IF(Q44=6,"Freitag","Samstag")))))) -> Samstag | B43: Brot / Nudeln / Getr. | E43: Gem. | G43: Obst | I43: Käse / Milch | K43: Fisch / Fleisch | M43: Fett / Öl | O43: Süßes | Q43: =A44 -> 44198
A44: =A33+1 -> 44198 | Q44: =WEEKDAY(Q43) -> 7
A45: =VLOOKUP("x",$A$2:$B$7,2) -> 1250 | B45: =VLOOKUP("x",$A$2:$P$7,3) -> 440 | E45: =VLOOKUP("x",$A$2:$P$7,6) -> 140 | G45: =VLOOKUP("x",$A$2:$P$7,8) -> 150 | I45: =VLOOKUP("x",$A$2:$P$7,10) -> 160 | K45: =VLOOKUP("x",$A$2:$P$7,12) -> 140 | M45: =VLOOKUP("x",$A$2:$P$7,14) -> 160 | O45: =VLOOKUP("x",$A$2:$P$7,16) -> 60
A46: Morgens | B46: 205 | Q46: ="GESAMT: " & SUM(B51:P51) -> GESAMT: 1024
A47: Mittags | E47: 39 | G47: 16 | H47: 27 | K47: 83 | M47: 62 | N47: 16
A48: Nachmittags
A49: Abends | B49: 57 | C49: 98 | I49: 215 | K49: 58 | M49: 148
A50: Naschen
A51: Gesamt | B51: =SUM(B46:D50) -> 360 | E51: =SUM(E46:F50) -> 39 | G51: =SUM(G46:H50) -> 43 | I51: =SUM(I46:J50) -> 215 | K51: =SUM(K46:L50) -> 141 | M51: =SUM(M46:N50) -> 226 | O51: =SUM(O46:P50) -> 0
A52: ="Zuwenig / Zuviel bei " & $A45 & " kcal" -> Zuwenig / Zuviel bei 1250 kcal | B52: =B51-B45 -> -80 | E52: =E51-E45 -> -101 | G52: =G51-G45 -> -107 | I52: =I51-I45 -> 55 | K52: =K51-K45 -> 1 | M52: =M51-M45 -> 66 | O52: =O51-O45 -> -60
A54: =IF(Q55=1,"Sonntag",IF(Q55=2,"Montag",IF(Q55=3,"Dienstag",IF(Q55=4,"Mittwoch",IF(Q55=5,"Donnerstag",IF(Q55=6,"Freitag","Samstag")))))) -> Sonntag | B54: Brot / Nudeln / Getr. | E54: Gem. | G54: Obst | I54: Käse / Milch | K54: Fisch / Fleisch | M54: Fett / Öl | O54: Süßes | Q54: =A55 -> 44199
A55: =A44+1 -> 44199 | Q55: =WEEKDAY(Q54) -> 1
A56: =VLOOKUP("x",$A$2:$B$7,2) -> 1250 | B56: =VLOOKUP("x",$A$2:$P$7,3) -> 440 | E56: =VLOOKUP("x",$A$2:$P$7,6) -> 140 | G56: =VLOOKUP("x",$A$2:$P$7,8) -> 150 | I56: =VLOOKUP("x",$A$2:$P$7,10) -> 160 | K56: =VLOOKUP("x",$A$2:$P$7,12) -> 140 | M56: =VLOOKUP("x",$A$2:$P$7,14) -> 160 | O56: =VLOOKUP("x",$A$2:$P$7,16) -> 60
A57: Morgens | B57: 177 | I57: 48 | J57: 174 | K57: 54 | M57: 148 | Q57: ="GESAMT: " & SUM(B62:P62) -> GESAMT: 996
A58: Mittags
A59: Nachmittags
A60: Abends | B60: 109 | E60: 51 | K60: 117 | O60: 27
A61: Naschen | B61: 91
A62: Gesamt | B62: =SUM(B57:D61) -> 377 | E62: =SUM(E57:F61) -> 51 | G62: =SUM(G57:H61) -> 0 | I62: =SUM(I57:J61) -> 222 | K62: =SUM(K57:L61) -> 171 | M62: =SUM(M57:N61) -> 148 | O62: =SUM(O57:P61) -> 27
A63: ="Zuwenig / Zuviel bei " & $A56 & " kcal" -> Zuwenig / Zuviel bei 1250 kcal | B63: =B62-B56 -> -63 | E63: =E62-E56 -> -89 | G63: =G62-G56 -> -150 | I63: =I62-I56 -> 62 | K63: =K62-K56 -> 31 | M63: =M62-M56 -> -12 | O63: =O62-O56 -> -33
A65: =IF(Q66=1,"Sonntag",IF(Q66=2,"Montag",IF(Q66=3,"Dienstag",IF(Q66=4,"Mittwoch",IF(Q66=5,"Donnerstag",IF(Q66=6,"Freitag","Samstag")))))) -> Montag | B65: Brot / Nudeln / Getr. | E65: Gem. | G65: Obst | I65: Käse / Milch | K65: Fisch / Fleisch | M65: Fett / Öl | O65: Süßes | Q65: =A66 -> 44200
A66: =A55+1 -> 44200 | Q66: =WEEKDAY(Q65) -> 2
A67: =VLOOKUP("x",$A$2:$B$7,2) -> 1250 | B67: =VLOOKUP("x",$A$2:$P$7,3) -> 440 | E67: =VLOOKUP("x",$A$2:$P$7,6) -> 140 | G67: =VLOOKUP("x",$A$2:$P$7,8) -> 150 | I67: =VLOOKUP("x",$A$2:$P$7,10) -> 160 | K67: =VLOOKUP("x",$A$2:$P$7,12) -> 140 | M67: =VLOOKUP("x",$A$2:$P$7,14) -> 160 | O67: =VLOOKUP("x",$A$2:$P$7,16) -> 60
A68: Morgens | B68: 216 | Q68: ="GESAMT: " & SUM(B73:P73) -> GESAMT: 959
A69: Mittags | B69: 109 | E69: 42 | K69: 152
A70: Nachmittags
A71: Abends | B71: 112 | E71: 17 | I71: 224 | K71: 50 | M71: 37
A72: Naschen
A73: Gesamt | B73: =SUM(B68:D72) -> 437 | E73: =SUM(E68:F72) -> 59 | G73: =SUM(G68:H72) -> 0 | I73: =SUM(I68:J72) -> 224 | K73: =SUM(K68:L72) -> 202 | M73: =SUM(M68:N72) -> 37 | O73: =SUM(O68:P72) -> 0
A74: ="Zuwenig / Zuviel bei " & $A67 & " kcal" -> Zuwenig / Zuviel bei 1250 kcal | B74: =B73-B67 -> -3 | E74: =E73-E67 -> -81 | G74: =G73-G67 -> -150 | I74: =I73-I67 -> 64 | K74: =K73-K67 -> 62 | M74: =M73-M67 -> -123 | O74: =O73-O67 -> -60
A76: =IF(Q77=1,"Sonntag",IF(Q77=2,"Montag",IF(Q77=3,"Dienstag",IF(Q77=4,"Mittwoch",IF(Q77=5,"Donnerstag",IF(Q77=6,"Freitag","Samstag")))))) -> Dienstag | B76: Brot / Nudeln / Getr. | E76: Gem. | G76: Obst | I76: Käse / Milch | K76: Fisch / Fleisch | M76: Fett / Öl | O76: Süßes | Q76: =A77 -> 44201
A77: =A66+1 -> 44201 | Q77: =WEEKDAY(Q76) -> 3
A78: =VLOOKUP("x",$A$2:$B$7,2) -> 1250 | B78: =VLOOKUP("x",$A$2:$P$7,3) -> 440 | E78: =VLOOKUP("x",$A$2:$P$7,6) -> 140 | G78: =VLOOKUP("x",$A$2:$P$7,8) -> 150 | I78: =VLOOKUP("x",$A$2:$P$7,10) -> 160 | K78: =VLOOKUP("x",$A$2:$P$7,12) -> 140 | M78: =VLOOKUP("x",$A$2:$P$7,14) -> 160 | O78: =VLOOKUP("x",$A$2:$P$7,16) -> 60
A79: Morgens | B79: 216 | Q79: ="GESAMT: " & SUM(B84:P84) -> GESAMT: 1057
A80: Mittags | B80: 279 | E80: 101 | G80: 16 | K80: 66 | M80: 72 | O80: 129
A81: Nachmittags
A82: Abends | B82: 56 | E82: 33 | I82: 28 | K82: 24 | M82: 37
A83: Naschen
A84: Gesamt | B84: =SUM(B79:D83) -> 551 | E84: =SUM(E79:F83) -> 134 | G84: =SUM(G79:H83) -> 16 | I84: =SUM(I79:J83) -> 28 | K84: =SUM(K79:L83) -> 90 | M84: =SUM(M79:N83) -> 109 | O84: =SUM(O79:P83) -> 129
A85: ="Zuwenig / Zuviel bei " & $A78 & " kcal" -> Zuwenig / Zuviel bei 1250 kcal | B85: =B84-B78 -> 111 | E85: =E84-E78 -> -6 | G85: =G84-G78 -> -134 | I85: =I84-I78 -> -132 | K85: =K84-K78 -> -50 | M85: =M84-M78 -> -51 | O85: =O84-O78 -> 69

Sheet Mz_20201223
A2: Name: | B2: Dieter Ascheberg | E2: 44188
A3: Arbeitsblatt für die | B3: 1 | C3: Stabilisierungswoche | E3: Datum
A4: mit | B4: 0 | C4: Tüten pro Tag
A5: Wochentag / Datum | B5: Frühstück | C5: Mittagessen | D5: Abendbrot | E5: zwischendurch
A6: Mittwoch | B6: Porridge | C6: Feldsalat, | D6: ETA | E6: Tee
A7: Datum | C7: Schafskäse, | D7: Knäcke | E7: Wasser
A8: 44188 | C8: Vignairette, | D8: Rotwein o.Alk. | E8: ColaMix
A9: (Datum nur in dem | C9: Putenbrust | E9: 128/61/73
A10: obigen Feld eintragen) | B10: 205 | C10: 398 | D10: 318 | E10: =SUM(B10:D10) -> 921
A11: Donnerstag | B11: Porridge | C11: Butterstollen | D11: Rinderfilet. Pfiffer- | E11: Wasser
A12: Datum | C12: Butter. Kekse | D12: linge, Zwiebeln,Eis, | E12: ColaMix
A13: =A8+1 -> 44189 | D13: Kroketten, | E13: 126/52/77
D14: Rotwein, Whisky
B15: 205 | C15: 338 | D15: 1440 | E15: =SUM(B15:D15) -> 1983
A16: Freitag | B16: Brot, Brötchen, | C16: Butterstollen | D16: Hawaiitoast mit | E16: Wasser
A17: Datum | B17: Krabbensalat i.J. | C17: Butter, Kekse | D17: Vollkornbrot, fr. | E17: ColaMix
A18: =A13+1 -> 44190 | B18: Ei, Käse,Butter | D18: Ananas, Käse | E18: 134/50/72
D19: Whisky
B20: 439 | C20: 321 | D20: 970 | E20: =SUM(B20:D20) -> 1730
A21: Samstag | B21: Brötchen,Brot, | C21: Kopfsalat,Puten- | D21: 2 Riegel | E21: Wasser, Tee
A22: Datum | B22: Krabbensalat i.J. | C22: brustfilet, Vign., | E22: ColaMix
A23: =A18+1 -> 44191 | B23: Ei, Käse,Butter | C23: Schafskäse, | E23: 121/53/68
B25: 482 | C25: 426 | D25: 182 | E25: =SUM(B25:D25) -> 1090
A26: Sonntag | B26: Porridge | D26: Champignons, Zwieb. | E26: Wasser, Tee
A27: Datum | D27: Rinderfilet, Back- | E27: ColaMix
A28: =A23+1 -> 44192 | D28: ofenkroketten, | E28: 126/50/69
D29: Butter, Rotwein oA
B30: 205 | D30: 712 | E30: =SUM(B30:D30) -> 917
A31: Montag | B31: Schokocreme | C31: Rosenkohl,Butter | D31: ETA | E31: Wasser, Tee
A32: Datum | C32: Kartoffeln,Eis- | D32: Clementine | E32: ColaMix
A33: =A28+1 -> 44193 | C33: bergsalat, Jog- | E33: 120/57/68
C34: hurtzitronendres.
B35: 216 | C35: 451 | D35: 299 | E35: =SUM(B35:D35) -> 966
A36: Dienstag | B36: Porridge | C36: Erbsen, Wurzeln | D36: ETA, Knäcke | E36: Wasser, Tee
A37: Datum | C37: Schinken, Kart. | D37: Hüttenkäse, Riegel | E37: ColaMix
A38: =A33+1 -> 44194 | C38: weiße Soße | D38: alkfr.Merlot | E38: 136/54/74
B40: 205 | C40: 446 | D40: 444 | E40: =SUM(B40:D40) -> 1095

Sheet kcal_Basic_20201223
A1: Mit x in der ersten Spalte auswählen | C1: Brot / Nudeln / Getr. | F1: Gem. | H1: Obst | J1: Käse / Milch | L1: Fisch / Fleisch | N1: Fett / Öl | P1: Süßes
A2: x | B2: =IF(SUM(C2:Q2)<>1250,"Fehler",SUM(C2:Q2)) -> 1250 | C2: 440 | F2: 140 | H2: 150 | J2: 160 | L2: 140 | N2: 160 | P2: 60
B3: =IF(SUM(C3:Q3)<>1500,"Fehler",SUM(C3:Q3)) -> 1500 | C3: 530 | F3: 180 | H3: 170 | J3: 190 | L3: 160 | N3: 200 | P3: 70
B4: =IF(SUM(C4:Q4)<>1750,"Fehler",SUM(C4:Q4)) -> 1750 | C4: 600 | F4: 190 | H4: 180 | J4: 210 | L4: 170 | N4: 240 | P4: 160
B5: =IF(SUM(C5:Q5)<>2000,"Fehler",SUM(C5:Q5)) -> 2000 | C5: 680 | F5: 200 | H5: 200 | J5: 240 | L5: 200 | N5: 280 | P5: 200
B6: =IF(SUM(C6:Q6)<>2250,"Fehler",SUM(C6:Q6)) -> 2250 | C6: 770 | F6: 230 | H6: 230 | J6: 270 | L6: 220 | N6: 310 | P6: 220
B7: =IF(SUM(C7:Q7)<>2500,"Fehler",SUM(C7:Q7)) -> 2500 | C7: 850 | F7: 250 | H7: 250 | J7: 300 | L7: 250 | N7: 350 | P7: 250
A10: =IF(Q11=1,"Sonntag",IF(Q11=2,"Montag",IF(Q11=3,"Dienstag",IF(Q11=4,"Mittwoch",IF(#REF!=5,"Donnerstag",IF(Q11=6,"Freitag","Samstag")))))) -> Mittwoch | B10: Brot / Nudeln / Getr. | E10: Gem. | G10: Obst | I10: Käse / Milch | K10: Fisch / Fleisch | M10: Fett / Öl | O10: Süßes | Q10: =A11 -> 44188
A11: 44188 | Q11: =WEEKDAY(Q10) -> 4
A12: =VLOOKUP("x",$A$2:$B$7,2) -> 1250 | B12: =VLOOKUP("x",$A$2:$P$7,3) -> 440 | E12: =VLOOKUP("x",$A$2:$P$7,6) -> 140 | G12: =VLOOKUP("x",$A$2:$P$7,8) -> 150 | I12: =VLOOKUP("x",$A$2:$P$7,10) -> 160 | K12: =VLOOKUP("x",$A$2:$P$7,12) -> 140 | M12: =VLOOKUP("x",$A$2:$P$7,14) -> 160 | O12: =VLOOKUP("x",$A$2:$P$7,16) -> 60
A13: Morgens | B13: 206 | I13: 90 | M13: 30 | Q13: ="GESAMT: " & SUM(B18:P18) -> GESAMT: 930
A14: Mittags | E14: 50 | K14: 100 | M14: 80
A15: Nachmittags
A16: Abends | B16: 114 | I16: 100 | K16: 90 | M16: 30
A17: Naschen | O17: 40
A18: Gesamt | B18: =SUM(B13:D17) -> 320 | E18: =SUM(E13:F17) -> 50 | G18: =SUM(G13:H17) -> 0 | I18: =SUM(I13:J17) -> 190 | K18: =SUM(K13:L17) -> 190 | M18: =SUM(M13:N17) -> 140 | O18: =SUM(O13:P17) -> 40
A19: ="Zuwenig / Zuviel bei " & $A12 & " kcal" -> Zuwenig / Zuviel bei 1250 kcal | B19: =B18-B12 -> -120 | E19: =E18-E12 -> -90 | G19: =G18-G12 -> -150 | I19: =I18-I12 -> 30 | K19: =K18-K12 -> 50 | M19: =M18-M12 -> -20 | O19: =O18-O12 -> -20
A21: =IF(Q22=1,"Sonntag",IF(Q22=2,"Montag",IF(Q22=3,"Dienstag",IF(Q22=4,"Mittwoch",IF(Q22=5,"Donnerstag",IF(Q22=6,"Freitag","Samstag")))))) -> Donnerstag | B21: Brot / Nudeln / Getr. | E21: Gem. | G21: Obst | I21: Käse / Milch | K21: Fisch / Fleisch | M21: Fett / Öl | O21: Süßes | Q21: =A22 -> 44189
A22: =A11+1 -> 44189 | Q22: =WEEKDAY(Q21) -> 5
A23: =VLOOKUP("x",$A$2:$B$7,2) -> 1250 | B23: =VLOOKUP("x",$A$2:$P$7,3) -> 440 | E23: =VLOOKUP("x",$A$2:$P$7,6) -> 140 | G23: =VLOOKUP("x",$A$2:$P$7,8) -> 150 | I23: =VLOOKUP("x",$A$2:$P$7,10) -> 160 | K23: =VLOOKUP("x",$A$2:$P$7,12) -> 140 | M23: =VLOOKUP("x",$A$2:$P$7,14) -> 160 | O23: =VLOOKUP("x",$A$2:$P$7,16) -> 60
A24: Morgens | B24: 206 | Q24: ="GESAMT: " & SUM(B29:P29) -> GESAMT: 1990
A25: Mittags
A26: Nachmittags | B26: 314 | M26: 40
A27: Abends | B27: 150 | E27: 60 | I27: 240 | K27: 260 | M27: 180 | O27: 540
A28: Naschen
A29: Gesamt | B29: =SUM(B24:D28) -> 670 | E29: =SUM(E24:F28) -> 60 | G29: =SUM(G24:H28) -> 0 | I29: =SUM(I24:J28) -> 240 | K29: =SUM(K24:L28) -> 260 | M29: =SUM(M24:N28) -> 220 | O29: =SUM(O24:P28) -> 540
A30: ="Zuwenig / Zuviel bei " & $A23 & " kcal" -> Zuwenig / Zuviel bei 1250 kcal | B30: =B29-B23 -> 230 | E30: =E29-E23 -> -80 | G30: =G29-G23 -> -150 | I30: =I29-I23 -> 80 | K30: =K29-K23 -> 120 | M30: =M29-M23 -> 60 | O30: =O29-O23 -> 480
A32: =IF(Q33=1,"Sonntag",IF(Q33=2,"Montag",IF(Q33=3,"Dienstag",IF(Q33=4,"Mittwoch",IF(Q33=5,"Donnerstag",IF(Q33=6,"Freitag","Samstag")))))) -> Freitag | B32: Brot / Nudeln / Getr. | E32: Gem. | G32: Obst | I32: Käse / Milch | K32: Fisch / Fleisch | M32: Fett / Öl | O32: Süßes | Q32: =A33 -> 44190
A33: =A22+1 -> 44190 | Q33: =WEEKDAY(Q32) -> 6
A34: =VLOOKUP("x",$A$2:$B$7,2) -> 1250 | B34: =VLOOKUP("x",$A$2:$P$7,3) -> 440 | E34: =VLOOKUP("x",$A$2:$P$7,6) -> 140 | G34: =VLOOKUP("x",$A$2:$P$7,8) -> 150 | I34: =VLOOKUP("x",$A$2:$P$7,10) -> 160 | K34: =VLOOKUP("x",$A$2:$P$7,12) -> 140 | M34: =VLOOKUP("x",$A$2:$P$7,14) -> 160 | O34: =VLOOKUP("x",$A$2:$P$7,16) -> 60
A35: Morgens | B35: 160 | I35: 97 | K35: 70 | M35: 111 | Q35: ="GESAMT: " & SUM(B40:P40) -> GESAMT: 1733
A36: Mittags | B36: 250 | M36: 74
A37: Nachmittags
A38: Abends | B38: 236 | G38: 114 | I38: 328 | O38: 293
A39: Naschen
A40: Gesamt | B40: =SUM(B35:D39) -> 646 | E40: =SUM(E35:F39) -> 0 | G40: =SUM(G35:H39) -> 114 | I40: =SUM(I35:J39) -> 425 | K40: =SUM(K35:L39) -> 70 | M40: =SUM(M35:N39) -> 185 | O40: =SUM(O35:P39) -> 293
A41: ="Zuwenig / Zuviel bei " & $A34 & " kcal" -> Zuwenig / Zuviel bei 1250 kcal | B41: =B40-B34 -> 206 | E41: =E40-E34 -> -140 | G41: =G40-G34 -> -36 | I41: =I40-I34 -> 265 | K41: =K40-K34 -> -70 | M41: =M40-M34 -> 25 | O41: =O40-O34 -> 233
A43: =IF(Q44=1,"Sonntag",IF(Q44=2,"Montag",IF(Q44=3,"Dienstag",IF(Q44=4,"Mittwoch",IF(Q44=5,"Donnerstag",IF(Q44=6,"Freitag","Samstag")))))) -> Samstag | B43: Brot / Nudeln / Getr. | E43: Gem. | G43: Obst | I43: Käse / Milch | K43: Fisch / Fleisch | M43: Fett / Öl | O43: Süßes | Q43: =A44 -> 44191
A44: =A33+1 -> 44191 | Q44: =WEEKDAY(Q43) -> 7
A45: =VLOOKUP("x",$A$2:$B$7,2) -> 1250 | B45: =VLOOKUP("x",$A$2:$P$7,3) -> 440 | E45: =VLOOKUP("x",$A$2:$P$7,6) -> 140 | G45: =VLOOKUP("x",$A$2:$P$7,8) -> 150 | I45: =VLOOKUP("x",$A$2:$P$7,10) -> 160 | K45: =VLOOKUP("x",$A$2:$P$7,12) -> 140 | M45: =VLOOKUP("x",$A$2:$P$7,14) -> 160 | O45: =VLOOKUP("x",$A$2:$P$7,16) -> 60
A46: Morgens | B46: 160 | I46: 173 | M46: 148 | Q46: ="GESAMT: " & SUM(B51:P51) -> GESAMT: 1087
A47: Mittags
A48: Nachmittags | B48: 182 | E48: 45 | G48: 73 | I48: 70 | K48: 166 | M48: 70
A49: Abends
A50: Naschen
A51: Gesamt | B51: =SUM(B46:D50) -> 342 | E51: =SUM(E46:F50) -> 45 | G51: =SUM(G46:H50) -> 73 | I51: =SUM(I46:J50) -> 243 | K51: =SUM(K46:L50) -> 166 | M51: =SUM(M46:N50) -> 218 | O51: =SUM(O46:P50) -> 0
A52: ="Zuwenig / Zuviel bei " & $A45 & " kcal" -> Zuwenig / Zuviel bei 1250 kcal | B52: =B51-B45 -> -98 | E52: =E51-E45 -> -95 | G52: =G51-G45 -> -77 | I52: =I51-I45 -> 83 | K52: =K51-K45 -> 26 | M52: =M51-M45 -> 58 | O52: =O51-O45 -> -60
A54: =IF(Q55=1,"Sonntag",IF(Q55=2,"Montag",IF(Q55=3,"Dienstag",IF(Q55=4,"Mittwoch",IF(Q55=5,"Donnerstag",IF(Q55=6,"Freitag","Samstag")))))) -> Sonntag | B54: Brot / Nudeln / Getr. | E54: Gem. | G54: Obst | I54: Käse / Milch | K54: Fisch / Fleisch | M54: Fett / Öl | O54: Süßes | Q54: =A55 -> 44192
A55: =A44+1 -> 44192 | Q55: =WEEKDAY(Q54) -> 1
A56: =VLOOKUP("x",$A$2:$B$7,2) -> 1250 | B56: =VLOOKUP("x",$A$2:$P$7,3) -> 440 | E56: =VLOOKUP("x",$A$2:$P$7,6) -> 140 | G56: =VLOOKUP("x",$A$2:$P$7,8) -> 150 | I56: =VLOOKUP("x",$A$2:$P$7,10) -> 160 | K56: =VLOOKUP("x",$A$2:$P$7,12) -> 140 | M56: =VLOOKUP("x",$A$2:$P$7,14) -> 160 | O56: =VLOOKUP("x",$A$2:$P$7,16) -> 60
A57: Morgens | B57: 205 | Q57: ="GESAMT: " & SUM(B62:P62) -> GESAMT: 916
A58: Mittags
A59: Nachmittags | B59: 171 | E59: 30 | K59: 244 | M59: 222 | O59: 44
A60: Abends
A61: Naschen
A62: Gesamt | B62: =SUM(B57:D61) -> 376 | E62: =SUM(E57:F61) -> 30 | G62: =SUM(G57:H61) -> 0 | I62: =SUM(I57:J61) -> 0 | K62: =SUM(K57:L61) -> 244 | M62: =SUM(M57:N61) -> 222 | O62: =SUM(O57:P61) -> 44
A63: ="Zuwenig / Zuviel bei " & $A56 & " kcal" -> Zuwenig / Zuviel bei 1250 kcal | B63: =B62-B56 -> -64 | E63: =E62-E56 -> -110 | G63: =G62-G56 -> -150 | I63: =I62-I56 -> -160 | K63: =K62-K56 -> 104 | M63: =M62-M56 -> 62 | O63: =O62-O56 -> -16
A65: =IF(Q66=1,"Sonntag",IF(Q66=2,"Montag",IF(Q66=3,"Dienstag",IF(Q66=4,"Mittwoch",IF(Q66=5,"Donnerstag",IF(Q66=6,"Freitag","Samstag")))))) -> Montag | B65: Brot / Nudeln / Getr. | E65: Gem. | G65: Obst | I65: Käse / Milch | K65: Fisch / Fleisch | M65: Fett / Öl | O65: Süßes | Q65: =A66 -> 44193
A66: =A55+1 -> 44193 | Q66: =WEEKDAY(Q65) -> 2
A67: =VLOOKUP("x",$A$2:$B$7,2) -> 1250 | B67: =VLOOKUP("x",$A$2:$P$7,3) -> 440 | E67: =VLOOKUP("x",$A$2:$P$7,6) -> 140 | G67: =VLOOKUP("x",$A$2:$P$7,8) -> 150 | I67: =VLOOKUP("x",$A$2:$P$7,10) -> 160 | K67: =VLOOKUP("x",$A$2:$P$7,12) -> 140 | M67: =VLOOKUP("x",$A$2:$P$7,14) -> 160 | O67: =VLOOKUP("x",$A$2:$P$7,16) -> 60
A68: Morgens | B68: 216 | Q68: ="GESAMT: " & SUM(B73:P73) -> GESAMT: 967
A69: Mittags | B69: 73 | E69: 138 | F69: 13 | G69: 16 | I69: 64 | M69: 148
A70: Nachmittags
A71: Abends | B71: 56 | E71: 33 | G71: 74 | I71: 75 | K71: 24 | M71: 37
A72: Naschen
A73: Gesamt | B73: =SUM(B68:D72) -> 345 | E73: =SUM(E68:F72) -> 184 | G73: =SUM(G68:H72) -> 90 | I73: =SUM(I68:J72) -> 139 | K73: =SUM(K68:L72) -> 24 | M73: =SUM(M68:N72) -> 185 | O73: =SUM(O68:P72) -> 0
A74: ="Zuwenig / Zuviel bei " & $A67 & " kcal" -> Zuwenig / Zuviel bei 1250 kcal | B74: =B73-B67 -> -95 | E74: =E73-E67 -> 44 | G74: =G73-G67 -> -60 | I74: =I73-I67 -> -21 | K74: =K73-K67 -> -116 | M74: =M73-M67 -> 25 | O74: =O73-O67 -> -60
A76: =IF(Q77=1,"Sonntag",IF(Q77=2,"Montag",IF(Q77=3,"Dienstag",IF(Q77=4,"Mittwoch",IF(Q77=5,"Donnerstag",IF(Q77=6,"Freitag","Samstag")))))) -> Dienstag | B76: Brot / Nudeln / Getr. | E76: Gem. | G76: Obst | I76: Käse / Milch | K76: Fisch / Fleisch | M76: Fett / Öl | O76: Süßes | Q76: =A77 -> 44194
A77: =A66+1 -> 44194 | Q77: =WEEKDAY(Q76) -> 3
A78: =VLOOKUP("x",$A$2:$B$7,2) -> 1250 | B78: =VLOOKUP("x",$A$2:$P$7,3) -> 440 | E78: =VLOOKUP("x",$A$2:$P$7,6) -> 140 | G78: =VLOOKUP("x",$A$2:$P$7,8) -> 150 | I78: =VLOOKUP("x",$A$2:$P$7,10) -> 160 | K78: =VLOOKUP("x",$A$2:$P$7,12) -> 140 | M78: =VLOOKUP("x",$A$2:$P$7,14) -> 160 | O78: =VLOOKUP("x",$A$2:$P$7,16) -> 60
A79: Morgens | B79: 205 | Q79: ="GESAMT: " & SUM(B84:P84) -> GESAMT: 1095
A80: Mittags | B80: 104 | E80: 173 | I80: 11 | K80: 102 | M80: 56
A81: Nachmittags
A82: Abends | B82: 99 | E82: 33 | I82: 75 | J82: 41 | K82: 24 | M82: 37 | O82: 44
A83: Naschen | B83: 91
A84: Gesamt | B84: =SUM(B79:D83) -> 499 | E84: =SUM(E79:F83) -> 206 | G84: =SUM(G79:H83) -> 0 | I84: =SUM(I79:J83) -> 127 | K84: =SUM(K79:L83) -> 126 | M84: =SUM(M79:N83) -> 93 | O84: =SUM(O79:P83) -> 44
A85: ="Zuwenig / Zuviel bei " & $A78 & " kcal" -> Zuwenig / Zuviel bei 1250 kcal | B85: =B84-B78 -> 59 | E85: =E84-E78 -> 66 | G85: =G84-G78 -> -150 | I85: =I84-I78 -> -33 | K85: =K84-K78 -> -14 | M85: =M84-M78 -> -67 | O85: =O84-O78 -> -16

Sheet UW_5
A2: Name: | B2: Dieter Ascheberg | E2: 44181
A3: Arbeitsblatt für die | B3: 4 | C3: Umstellungswoche | E3: Datum
A4: mit | B4: 1 | C4: Tüten pro Tag
A5: Wochentag / Datum | B5: Frühstück | C5: Mittagessen | D5: Abendbrot | E5: zwischendurch
A6: Mittwoch | B6: Porridge | C6: Gemüsesuppe | D6: ETA | E6: Tee
A7: Datum | C7: Orange gr. | D7: 2 Knäcke, Camen- | E7: Wasser
A8: 44181 | D8: bert, Schinken | E8: ColaMix
A9: (Datum nur in dem
A10: obigen Feld eintragen) | B10: 205 | C10: 338 | D10: 455 | E10: =SUM(B10:D10) -> 998
A11: Donnerstag | B11: Haferflocken | C11: Kartoffeln | D11: ETA | E11: Wasser
A12: Datum | B12: Kakao | C12: Blumenkohl | D12: 1 x Knäcke | E12: ColaMix
A13: =A8+1 -> 44182 | B13: Johgurt 1,5% | C13: Frikadelle | D13: Schinken | E13: 130/51/69
C14: Clementine | E14: schwindelig
B15: 305 | C15: 456 | D15: 284 | E15: =SUM(B15:D15) -> 1045
A16: Freitag | B16: Schokocreme | C16: Gemüsesuppe | D16: Knäckebrot | E16: Wasser
A17: Datum | C17: Orange gr. | D17: Hüttenkäse | E17: Rotwein alkfrei
A18: =A13+1 -> 44183 | D18: ETA | E18: 119/48/70
D19: Rotwein alkfrei | E19: 140/52/68
B20: 205 | C20: 338 | D20: 417 | E20: =SUM(B20:D20) -> 960
A21: Samstag | B21: Brötchen | C21: Hähnchenbrust | D21: Schokocreme | E21: Wasser
A22: Datum | B22: Käse 60 gr. | C22: Mischbrot | E22: Tee | 123/49/63
A23: =A18+1 -> 44184 | B23: Hüttenkäse | C23: Kräuterbutter sg. | E23: 135/57/64
E24: 137/58/65
B25: 370 | C25: 309 | D25: 205 | E25: =SUM(B25:D25) -> 884
A26: Sonntag | B26: Brötchen | C26: Porridge | D26: Schwarzbrot, | E26: Wasser
A27: Datum | B27: Ei, Käse, Butter | D27: Grünländer,Knäcke | E27: Tee
A28: =A23+1 -> 44185 | D28: Schinken, Hütten- | E28: 122/53/66
D29: käse, Radieschen
B30: 340 | C30: 205 | D30: 320 | E30: =SUM(B30:D30) -> 865
A31: Montag | B31: Schokocreme | C31: Gemüserösti mit | D31: Brot, Knäcke, | E31: Wasser
A32: Datum | C32: Kräuterquark | D32: Schinken, Käse | E32: Tee
A33: =A28+1 -> 44186 | D33: Hüttenkäse
D34: Rotwein
B35: 216 | C35: 200 | D35: =479+156 -> 635 | E35: =SUM(B35:D35) -> 1051
A36: Dienstag | B36: Porridge | C36: Kartoffeln, Spinat, | D36: ETA | E36: Wasser
A37: Datum | C37: Ei (2) | E37: Tee
A38: =A33+1 -> 44187 | E38: 122/50/74
B40: 205 | C40: 413 | D40: 225 | E40: =SUM(B40:D40) -> 843

Sheet UW_4
A2: Name: | B2: Dieter Ascheberg | E2: 44175
A3: Arbeitsblatt für die | B3: 4 | C3: Umstellungswoche | E3: Datum
A4: mit | B4: 2 | C4: Tüten pro Tag
A5: Wochentag / Datum | B5: Frühstück | C5: Mittagessen | D5: Abendbrot | E5: zwischendurch
A6: Mittwoch | B6: Erdbeer | C6: 2 Riegel | D6: 2 ETA | E6: Tee
A7: Datum | D7: 100gr. Körniger | E7: Wasser
A8: 44174 | D8: Frischkäse | E8: ColaMix
A9: (Datum nur in dem | D9: 100 ml Rotwein
A10: obigen Feld eintragen) | B10: 207 | C10: 182 | D10: 612 | E10: =SUM(B10:D10) -> 1001
A11: Donnerstag | B11: Porridge | C11: Tafelspitz mit | D11: 2 Riegel | E11: Wasser
A12: Datum | C12: Wurzeln/Erbsen | D12: Clementine | E12: ColaMix
A13: =A8+1 -> 44175 | C13: Sellerie, Kart. | D13: Rotwein
C14: Meerrettichs.
B15: 205 | C15: 437 | D15: 375 | E15: =SUM(B15:D15) -> 1017
A16: Freitag | B16: Porridge | C16: Salatgurke | D16: Clementine 120 gr. | E16: Wasser
A17: Datum | C17: Kartoffel,200gr | D17: Schokocreme | E17: ColaMix
A18: =A13+1 -> 44176 | C18: Pengasius,140g | E18: 130/56/71
B20: 205 | C20: 254 | D20: 271 | E20: =SUM(B20:D20) -> 730
A21: Samstag | B21: Porridge | C21: Kopfsalat | D21: Butterstollen | E21: Wasser
A22: Datum | C22: Hühnchenbrust | D22: Schokocreme | E22: ColaMix
A23: =A18+1 -> 44177 | C23: Clementine | D23: Butter | E23: Tee
E24: 115/50/72
B25: 205 | C25: 218 | D25: 468 | E25: =SUM(B25:D25) -> 891
A26: Sonntag | B26: Clementine | D26: Riegel, Stlfser | E26: Wasser
A27: Datum | B27: Ei, Hüttenkäse | D27: Butter, Schinken | E27: Tee
A28: =A23+1 -> 44178 | B28: Stilfser | D28: Schwarzbrot | E28: 107/49/65
B29: Brötchen | D29: Schokocreme
B30: 446 | D30: 621 | E30: =SUM(B30:D30) -> 1067
A31: Montag | B31: Porridge | C31: Blumenkohl- | D31: Schwarzbrot | E31: Wasser
A32: Datum | C32: auflauf | D32: Käse, Butter | E32: Tee
A33: =A28+1 -> 44179 | C33: Clementine | D33: Riegel, Stlfser | E33: 116/48/67
B35: 205 | C35: 316 | D35: 316 | E35: =SUM(B35:D35) -> 837
A36: Dienstag | B36: Porridge | C36: Blumenkohl- | D36: ETA | E36: 123/53/71
A37: Datum | C37: auflauf | D37: Riegel | E37: 126/51/68
A38: =A33+1 -> 44180 | C38: Clementine | E38: 135/47/65
B40: 205 | C40: 342 | D40: 402 | E40: =SUM(B40:D40) -> 949

Sheet UW_3
A2: Name: | B2: Dieter Ascheberg | E2: 44168
A3: Arbeitsblatt für die | B3: 3 | C3: Umstellungswoche | E3: Datum
A4: mit | B4: 2 | C4: Tüten pro Tag
A5: Wochentag / Datum | B5: Frühstück | C5: Mittagessen | D5: Abendbrot | E5: zwischendurch
A6: Mittwoch | B6: Erdbeerdrink | C6: Riegel | D6: Schwarzbrot | E6: Tee
A7: Datum | C7: Kopfsalat | D7: Schinken | E7: Wasser
A8: 44167 | C8: Hähnchenbrustf. | D8: Käse (=ETAbendbr.) | E8: ColaMix
A9: (Datum nur in dem
A10: obigen Feld eintragen) | B10: 207 | C10: 228 | D10: 225 | E10: =SUM(B10:D10) -> 660
A11: Donnerstag | B11: Schokodrink | C11: selbstgem.Frika- | D11: EinTütenAbendbrot | E11: Wasser
A12: Datum | C12: delle, Kartoffeln | D12: (= ETAbendbr.) | E12: ColaMix
A13: =A8+1 -> 44168 | C13: Möhren/Sellerie | D13: Knäckebrot Käse
D14: Riegel
B15: 216 | C15: 299 | D15: 513 | E15: =SUM(B15:D15) -> 1028
A16: Freitag | B16: Porridge | C16: Frikadelle, Rosen | D16: Schokocreme | E16: Wasser
A17: Datum | C17: kohl, Kartoffeln | E17: ColaMix
A18: =A13+1 -> 44169 | C18: Butter,
C19: 2 Clementinen
B20: 205 | C20: 428 | D20: 216 | E20: =SUM(B20:D20) -> 849
A21: Samstag | B21: Erdbeerdrink | C21: Frikadelle, Bohn. | D21: Clementinbe | E21: Wasser
A22: Datum | C22: Kartoffeln, But. | D22: Schokocreme | E22: ColaMix
A23: =A18+1 -> 44170 | C23: Clementine | D23: Rotwein 100 ml | E23: Tee
B25: 207 | C25: 412 | D25: 335 | E25: =SUM(B25:D25) -> 954
A26: Sonntag | B26: Brötchen(VK), | D26: Butterstollen(50gr.) | E26: Wasser
A27: Datum | B27: Vollkornbrot(15g) | D27: Schokocreme | E27: Tee
A28: =A23+1 -> 44171 | B28: Putenaufschnitt,
B29: Ei
B30: 422 | D30: 429 | E30: =SUM(B30:D30) -> 851
A31: Montag | B31: Porridge | C31: Putenbrust,Feld- | D31: Schwarzbrot,Knäcke | E31: Wasser
A32: Datum | C32: salat, Clementin. | D32: Kasseler,Bresso,1/2 | E32: Tee
A33: =A28+1 -> 44172 | D33: Ei,Stilfser, Hütten- | E33: 134/59/72
D34: käse 50 gr.
B35: 205 | C35: 186 | D35: 303 | E35: =SUM(B35:D35) -> 694
A36: Dienstag | B36: Vanilledrink | C36: Kartoffeln,Rosen | D36: Knäckebrot(2),
A37: Datum | C37: kohl,Putenbrust | D37: Bresso,Stilfser,
A38: =A33+1 -> 44173 | C38: 2 Clementinen | D38: 2 Clementinen
B40: 216 | C40: 334 | D40: 269 | E40: =SUM(B40:D40) -> 819

Sheet UW_2
A2: Name: | B2: Dieter Ascheberg | E2: 44160
A3: Arbeitsblatt für die | B3: 2 | C3: Umstellungswoche | E3: Datum
A4: mit | B4: 3 | C4: Tüten pro Tag
A5: Wochentag / Datum | B5: Frühstück | C5: Mittagessen | D5: Abendbrot | E5: zwischendurch
A6: Mittwoch | B6: Erdbeershake | C6: Kartoffel/80 gr. | D6: Porridge | E6: Tee
A7: Datum | C7: Broccoli/160 gr. | E7: Wasser
A8: 44160 | C8: Butter/5 gr. | E8: ColaMix
A9: (Datum nur in dem
A10: obigen Feld eintragen) | C10: Schokocreme
A11: Donnerstag | B11: Erdbeershake | C11: Kartoffel/80 gr. | D11: Porridge | E11: Wasser
A12: Datum | C12: Rosenkohl/220gr. | D12: 3 kl.Tomaten | E12: ColaMix
A13: =A8+1 -> 44161 | C13: Butter/10gr. | D13: 60 gr.Radieschen
C14: (=225,3 kcal)
C15: Schokocreme
A16: Freitag | B16: Vanilledrink | C16: Porridge | D16: Kartoffelsuppe | E16: Wasser
A17: Datum | D17: 1 Teller | E17: ColaMix
A18: =A13+1 -> 44162 | D18: 1 Riegel | E18: 400 ml trockenen
B19: 216 kcal | C19: 205 kcal | D19: 208 kcal | E19: Rotwein (312 kcal)
A21: Samstag | B21: Vanilledrink | C21: Kartoffelsuppe | D21: Schokocreme | E21: Wasser
A22: Datum | C22: 2 Teller | D22: Radieschen 100 gr. | E22: ColaMix
A23: =A18+1 -> 44163 | C23: 1 Riegel | D23: Gurkensalat | E23: 100 ml Rotwein
B24: 216 kcal | C24: 346 kcal | D24: 297 kcal | E24: 78 kcal
A26: Sonntag | B26: Schokocreme | C26: Protein-Kekse | D26: Rosenkohl, Kar- | E26: Wasser
A27: Datum | C27: 74 gr. | D27: toffeln,Butter
A28: =A23+1 -> 44164 | C28: Riegel
B29: 216 kcal | C29: 422 kcal | D29: 199 kcal
A31: Montag | B31: Vanilledrink | C31: Porridge | D31: Schokocreme | E31: Wasser
A32: Datum | C32: Bunter Salat | E32: Tee
A33: =A28+1 -> 44165
B34: 216 kcal | C34: 404 kcal | D34: 216 kcal
A36: Dienstag | B36: Vanilledrink | C36: Kartoffeln(80) | D36: Porridge | E36: Wasser
A37: Datum | C37: Wurzeln(200)Ei | E37: Tee
A38: =A33+1 -> 44166 | C38: (73)Orange(100)
C39: Schokocreme
B40: 216 kcal | C40: 499 kcal | D40: 205 kcal

Sheet UW_1
A2: Name: | B2: Dieter Ascheberg | E2: 44153
A3: Arbeitsblatt für die | B3: 1 | C3: Umstellungswoche | E3: Datum
A4: mit | B4: 3 | C4: Tüten pro Tag
A5: Wochentag / Datum | B5: Frühstück | C5: Mittagessen | D5: Abendbrot | E5: zwischendurch
A6: Mittwoch | B6: Erdbeershake | C6: Gemüsesuppe | D6: Porridge | E6: Wasser
A7: Datum | D7: Schokodrink | E7: Tee
A8: 44153
A9: (Datum nur in dem
A10: obigen Feld eintragen)
A11: Donnerstag | B11: Erdbeershake | C11: Porridge | D11: Schwarzbrot/30gr
A12: Datum | D12: Schinken / 18 gr.
A13: =A8+1 -> 44154 | D13: Käse / 20 gr. | E13: (ETA=EinTüten-
D14: =195 Kcal | E14: Abendbrot)
D15: Schokocreme
A16: Freitag | B16: Erdbeershake | C16: Porridge | D16: Zucchinisuppe
A17: Datum | D17: mit Lachs
A18: =A13+1 -> 44155 | D18: Schokocreme
A21: Samstag | B21: Erdbeershake | C21: Zucchinisuppe | D21: Porridge | E21: 0.66666667
A22: Datum | C22: mit Lachs | E22: 3 Proteinkekse
A23: =A18+1 -> 44156 | E23: =255 Kcal
A26: Sonntag | B26: Mohn-Vollkorn- | C26: Schokocreme | D26: Porridge | E26: ColaMix
A27: Datum | B27: Brötchen, Käse, | C27: 1 Riegel | E27: Wasser
A28: =A23+1 -> 44157 | B28: Schinken, Ei
A31: Montag | B31: Erdbeershake | C31: Porridge | D31: Schokocreme
A32: Datum | D32: ETA
A33: =A28+1 -> 44158
A36: Dienstag | B36: Erdbeershake | C36: Porridge | D36: ETA | E36: Tee
A37: Datum | D37: Schokocreme | E37: Wasser
A38: =A33+1 -> 44159 | E38: ColaMix

Sheet Mz_Basic
A2: Name: | B2: Bitte Namen eingeben | E2: =TODAY() -> 44206
A3: Arbeitsblatt für die | B3: 3 | C3: Stabilisierungswoche
A4: mit | B4: 0 | C4: Tüten pro Tag
A5: Wochentag / Datum | B5: Frühstück | C5: Mittagessen | D5: Abendbrot | E5: zwischendurch
A6: =TEXT(A8,"TTTT") -> Mittwoch | E6: Tee, Wasser
A7: Datum | E7: ColaMix light
A8: 44202
A9: (Datum nur in dem
A10: obigen Feld eintragen) | E10: =SUM(B10:D10) -> 0
A11: =TEXT(A13,"TTTT") -> Donnerstag | E11: Tee, Wasser
A12: Datum | E12: ColaMix light
A13: =A8+1 -> 44203
E15: =SUM(B15:D15) -> 0
A16: =TEXT(A18,"TTTT") -> Freitag | E16: Tee, Wasser
A17: Datum | E17: ColaMix light
A18: =A13+1 -> 44204
E20: =SUM(B20:D20) -> 0
A21: =TEXT(A23,"TTTT") -> Samstag | E21: Tee, Wasser
A22: Datum | E22: ColaMix light
A23: =A18+1 -> 44205
E25: =SUM(B25:D25) -> 0
A26: =TEXT(A28,"TTTT") -> Sonntag | E26: Tee, Wasser
A27: Datum | E27: ColaMix light
A28: =A23+1 -> 44206
E30: =SUM(B30:D30) -> 0
A31: =TEXT(A33,"TTTT") -> Montag | E31: Tee, Wasser
A32: Datum | E32: ColaMix light
A33: =A28+1 -> 44207
E35: =SUM(B35:D35) -> 0
A36: =TEXT(A38,"TTTT") -> Dienstag | E36: Tee, Wasser
A37: Datum | E37: ColaMix light
A38: =A33+1 -> 44208
E40: =SUM(B40:D40) -> 0

Sheet kval_Basic
A1: Auswählen | B1: Nicht vergessen in das blaue Feld das gewünschte Datum einzugeben!
A2: 1 | B2: =VLOOKUP($A$2,Htab!$C$2:$K$7,3) -> 440 | E2: =VLOOKUP($A$2,Htab!$C$2:$K$7,4) -> 140 | G2: =VLOOKUP($A$2,Htab!$C$2:$K$7,5) -> 150 | I2: =VLOOKUP($A$2,Htab!$C$2:$K$7,6) -> 160 | K2: =VLOOKUP($A$2,Htab!$C$2:$K$7,7) -> 140 | M2: =VLOOKUP($A$2,Htab!$C$2:$K$7,8) -> 160 | O2: =VLOOKUP($A$2,Htab!$C$2:$K$7,9) -> 60 | Q2: Kcal
A3: =TEXT(A4,"TTTT") -> Mittwoch | B3: Brot / Nudeln / Getr. | E3: Gemüse | G3: Obst | I3: Käse / Milch | K3: Fisch / Fleisch | M3: Fett / Öl | O3: Süßes | Q3: =SUM(B2:P2) -> 1250
A4: 44202
A5: Morgens | Q5: Gesamt
A6: Mittags
A7: Nachmittags | Q7: =SUM(B10:P10) -> 0
A8: Abends
A9: Naschen
A10: Gesamt | B10: =SUM(B5:D9) -> 0 | E10: =SUM(E5:F9) -> 0 | G10: =SUM(G5:H9) -> 0 | I10: =SUM(I5:J9) -> 0 | K10: =SUM(K5:L9) -> 0 | M10: =SUM(M5:N9) -> 0 | O10: =SUM(O5:P9) -> 0
A11: ="Zuwenig / Zuviel bei " & VLOOKUP($A$2,Htab!$C$2:$K$7,2) & " kcal" -> Zuwenig / Zuviel bei 1250 kcal | B11: =B10-B2 -> -440 | E11: =E10-E2 -> -140 | G11: =G10-G2 -> -150 | I11: =I10-I2 -> -160 | K11: =K10-K2 -> -140 | M11: =M10-M2 -> -160 | O11: =O10-O2 -> -60
A13: Auswählen
A14: 4 | B14: =VLOOKUP($A14,Htab!$C$2:$K$7,3) -> 680 | E14: =VLOOKUP($A14,Htab!$C$2:$K$7,4) -> 200 | G14: =VLOOKUP($A14,Htab!$C$2:$K$7,5) -> 200 | I14: =VLOOKUP($A14,Htab!$C$2:$K$7,6) -> 240 | K14: =VLOOKUP($A14,Htab!$C$2:$K$7,7) -> 200 | M14: =VLOOKUP($A14,Htab!$C$2:$K$7,8) -> 280 | O14: =VLOOKUP($A14,Htab!$C$2:$K$7,9) -> 200 | Q14: Kcal
A15: =TEXT(A16,"TTTT") -> Donnerstag | B15: Brot / Nudeln / Getr. | E15: Gemüse | G15: Obst | I15: Käse / Milch | K15: Fisch / Fleisch | M15: Fett / Öl | O15: Süßes | Q15: =SUM(B14:P14) -> 2000
A16: =A4+1 -> 44203
A17: Morgens | Q17: Gesamt
A18: Mittags
A19: Nachmittags | Q19: =SUM(B22:P22) -> 0
A20: Abends
A21: Naschen
A22: Gesamt | B22: =SUM(B17:D21) -> 0 | E22: =SUM(E17:F21) -> 0 | G22: =SUM(G17:H21) -> 0 | I22: =SUM(I17:J21) -> 0 | K22: =SUM(K17:L21) -> 0 | M22: =SUM(M17:N21) -> 0 | O22: =SUM(O17:P21) -> 0
A23: ="Zuwenig / Zuviel bei " & VLOOKUP($A14,Htab!$C$2:$K$7,2) & " kcal" -> Zuwenig / Zuviel bei 2000 kcal | B23: =B22-B14 -> -680 | E23: =E22-E14 -> -200 | G23: =G22-G14 -> -200 | I23: =I22-I14 -> -240 | K23: =K22-K14 -> -200 | M23: =M22-M14 -> -280 | O23: =O22-O14 -> -200
A25: Auswählen
A26: 2 | B26: =VLOOKUP($A26,Htab!$C$2:$K$7,3) -> 530 | E26: =VLOOKUP($A26,Htab!$C$2:$K$7,4) -> 180 | G26: =VLOOKUP($A26,Htab!$C$2:$K$7,5) -> 170 | I26: =VLOOKUP($A26,Htab!$C$2:$K$7,6) -> 190 | K26: =VLOOKUP($A26,Htab!$C$2:$K$7,7) -> 160 | M26: =VLOOKUP($A26,Htab!$C$2:$K$7,8) -> 200 | O26: =VLOOKUP($A26,Htab!$C$2:$K$7,9) -> 70 | Q26: Kcal
A27: =TEXT(A28,"TTTT") -> Freitag | B27: Brot / Nudeln / Getr. | E27: Gemüse | G27: Obst | I27: Käse / Milch | K27: Fisch / Fleisch | M27: Fett / Öl | O27: Süßes | Q27: =SUM(B26:P26) -> 1500
A28: =A16+1 -> 44204
A29: Morgens | Q29: Gesamt
A30: Mittags
A31: Nachmittags | Q31: =SUM(B34:P34) -> 0
A32: Abends
A33: Naschen
A34: Gesamt | B34: =SUM(B29:D33) -> 0 | E34: =SUM(E29:F33) -> 0 | G34: =SUM(G29:H33) -> 0 | I34: =SUM(I29:J33) -> 0 | K34: =SUM(K29:L33) -> 0 | M34: =SUM(M29:N33) -> 0 | O34: =SUM(O29:P33) -> 0
A35: ="Zuwenig / Zuviel bei " & VLOOKUP($A26,Htab!$C$2:$K$7,2) & " kcal" -> Zuwenig / Zuviel bei 1500 kcal | B35: =B34-B26 -> -530 | E35: =E34-E26 -> -180 | G35: =G34-G26 -> -170 | I35: =I34-I26 -> -190 | K35: =K34-K26 -> -160 | M35: =M34-M26 -> -200 | O35: =O34-O26 -> -70
A37: Auswählen
A38: 5 | B38: =VLOOKUP($A38,Htab!$C$2:$K$7,3) -> 770 | E38: =VLOOKUP($A38,Htab!$C$2:$K$7,4) -> 230 | G38: =VLOOKUP($A38,Htab!$C$2:$K$7,5) -> 230 | I38: =VLOOKUP($A38,Htab!$C$2:$K$7,6) -> 270 | K38: =VLOOKUP($A38,Htab!$C$2:$K$7,7) -> 220 | M38: =VLOOKUP($A38,Htab!$C$2:$K$7,8) -> 310 | O38: =VLOOKUP($A38,Htab!$C$2:$K$7,9) -> 220 | Q38: Kcal
A39: =TEXT(A40,"TTTT") -> Samstag | B39: Brot / Nudeln / Getr. | E39: Gemüse | G39: Obst | I39: Käse / Milch | K39: Fisch / Fleisch | M39: Fett / Öl | O39: Süßes | Q39: =SUM(B38:P38) -> 2250
A40: =A28+1 -> 44205
A41: Morgens | Q41: Gesamt
A42: Mittags
A43: Nachmittags | Q43: =SUM(B46:P46) -> 0
A44: Abends
A45: Naschen
A46: Gesamt | B46: =SUM(B41:D45) -> 0 | E46: =SUM(E41:F45) -> 0 | G46: =SUM(G41:H45) -> 0 | I46: =SUM(I41:J45) -> 0 | K46: =SUM(K41:L45) -> 0 | M46: =SUM(M41:N45) -> 0 | O46: =SUM(O41:P45) -> 0
A47: ="Zuwenig / Zuviel bei " & VLOOKUP($A38,Htab!$C$2:$K$7,2) & " kcal" -> Zuwenig / Zuviel bei 2250 kcal | B47: =B46-B38 -> -770 | E47: =E46-E38 -> -230 | G47: =G46-G38 -> -230 | I47: =I46-I38 -> -270 | K47: =K46-K38 -> -220 | M47: =M46-M38 -> -310 | O47: =O46-O38 -> -220
A49: Auswählen
A50: 1 | B50: =VLOOKUP($A50,Htab!$C$2:$K$7,3) -> 440 | E50: =VLOOKUP($A50,Htab!$C$2:$K$7,4) -> 140 | G50: =VLOOKUP($A50,Htab!$C$2:$K$7,5) -> 150 | I50: =VLOOKUP($A50,Htab!$C$2:$K$7,6) -> 160 | K50: =VLOOKUP($A50,Htab!$C$2:$K$7,7) -> 140 | M50: =VLOOKUP($A50,Htab!$C$2:$K$7,8) -> 160 | O50: =VLOOKUP($A50,Htab!$C$2:$K$7,9) -> 60 | Q50: Kcal
A51: =TEXT(A52,"TTTT") -> Sonntag | B51: Brot / Nudeln / Getr. | E51: Gemüse | G51: Obst | I51: Käse / Milch | K51: Fisch / Fleisch | M51: Fett / Öl | O51: Süßes | Q51: =SUM(B50:P50) -> 1250
A52: =A40+1 -> 44206
A53: Morgens | Q53: Gesamt
A54: Mittags
A55: Nachmittags | Q55: =SUM(B58:P58) -> 0
A56: Abends
A57: Naschen
A58: Gesamt | B58: =SUM(B53:D57) -> 0 | E58: =SUM(E53:F57) -> 0 | G58: =SUM(G53:H57) -> 0 | I58: =SUM(I53:J57) -> 0 | K58: =SUM(K53:L57) -> 0 | M58: =SUM(M53:N57) -> 0 | O58: =SUM(O53:P57) -> 0
A59: ="Zuwenig / Zuviel bei " & VLOOKUP($A50,Htab!$C$2:$K$7,2) & " kcal" -> Zuwenig / Zuviel bei 1250 kcal | B59: =B58-B50 -> -440 | E59: =E58-E50 -> -140 | G59: =G58-G50 -> -150 | I59: =I58-I50 -> -160 | K59: =K58-K50 -> -140 | M59: =M58-M50 -> -160 | O59: =O58-O50 -> -60
A61: Auswählen
A62: 2 | B62: =VLOOKUP($A62,Htab!$C$2:$K$7,3) -> 530 | E62: =VLOOKUP($A62,Htab!$C$2:$K$7,4) -> 180 | G62: =VLOOKUP($A62,Htab!$C$2:$K$7,5) -> 170 | I62: =VLOOKUP($A62,Htab!$C$2:$K$7,6) -> 190 | K62: =VLOOKUP($A62,Htab!$C$2:$K$7,7) -> 160 | M62: =VLOOKUP($A62,Htab!$C$2:$K$7,8) -> 200 | O62: =VLOOKUP($A62,Htab!$C$2:$K$7,9) -> 70 | Q62: Kcal
A63: =TEXT(A64,"TTTT") -> Montag | B63: Brot / Nudeln / Getr. | E63: Gemüse | G63: Obst | I63: Käse / Milch | K63: Fisch / Fleisch | M63: Fett / Öl | O63: Süßes | Q63: =SUM(B62:P62) -> 1500
A64: =A52+1 -> 44207
A65: Morgens | Q65: Gesamt
A66: Mittags
A67: Nachmittags | Q67: =SUM(B70:P70) -> 0
A68: Abends
A69: Naschen
A70: Gesamt | B70: =SUM(B65:D69) -> 0 | E70: =SUM(E65:F69) -> 0 | G70: =SUM(G65:H69) -> 0 | I70: =SUM(I65:J69) -> 0 | K70: =SUM(K65:L69) -> 0 | M70: =SUM(M65:N69) -> 0 | O70: =SUM(O65:P69) -> 0
A71: ="Zuwenig / Zuviel bei " & VLOOKUP($A62,Htab!$C$2:$K$7,2) & " kcal" -> Zuwenig / Zuviel bei 1500 kcal | B71: =B70-B62 -> -530 | E71: =E70-E62 -> -180 | G71: =G70-G62 -> -170 | I71: =I70-I62 -> -190 | K71: =K70-K62 -> -160 | M71: =M70-M62 -> -200 | O71: =O70-O62 -> -70
A73: Auswählen
A74: 4 | B74: =VLOOKUP($A74,Htab!$C$2:$K$7,3) -> 680 | E74: =VLOOKUP($A74,Htab!$C$2:$K$7,4) -> 200 | G74: =VLOOKUP($A74,Htab!$C$2:$K$7,5) -> 200 | I74: =VLOOKUP($A74,Htab!$C$2:$K$7,6) -> 240 | K74: =VLOOKUP($A74,Htab!$C$2:$K$7,7) -> 200 | M74: =VLOOKUP($A74,Htab!$C$2:$K$7,8) -> 280 | O74: =VLOOKUP($A74,Htab!$C$2:$K$7,9) -> 200 | Q74: Kcal
A75: =TEXT(A76,"TTTT") -> Dienstag | B75: Brot / Nudeln / Getr. | E75: Gemüse | G75: Obst | I75: Käse / Milch | K75: Fisch / Fleisch | M75: Fett / Öl | O75: Süßes | Q75: =SUM(B74:P74) -> 2000
A76: =A64+1 -> 44208
A77: Morgens | Q77: Gesamt
A78: Mittags
A79: Nachmittags | Q79: =SUM(B82:P82) -> 0
A80: Abends
A81: Naschen
A82: Gesamt | B82: =SUM(B77:D81) -> 0 | E82: =SUM(E77:F81) -> 0 | G82: =SUM(G77:H81) -> 0 | I82: =SUM(I77:J81) -> 0 | K82: =SUM(K77:L81) -> 0 | M82: =SUM(M77:N81) -> 0 | O82: =SUM(O77:P81) -> 0
A83: ="Zuwenig / Zuviel bei " & VLOOKUP($A74,Htab!$C$2:$K$7,2) & " kcal" -> Zuwenig / Zuviel bei 2000 kcal | B83: =B82-B74 -> -680 | E83: =E82-E74 -> -200 | G83: =G82-G74 -> -200 | I83: =I82-I74 -> -240 | K83: =K82-K74 -> -200 | M83: =M82-M74 -> -280 | O83: =O82-O74 -> -200

Sheet Htab
E1: B/N | F1: Gem | G1: Obst | H1: K/M | I1: F/F | J1: F/Ö | K1: Sü
A2: Mz_Basic | B2: 1 | C2: 1 | D2: 1250 | E2: 440 | F2: 140 | G2: 150 | H2: 160 | I2: 140 | J2: 160 | K2: 60
A3: kval_Basic | B3: 2 | C3: 2 | D3: 1500 | E3: 530 | F3: 180 | G3: 170 | H3: 190 | I3: 160 | J3: 200 | K3: 70
A4: Htab | B4: 3 | C4: 3 | D4: 1750 | E4: 600 | F4: 190 | G4: 180 | H4: 210 | I4: 170 | J4: 240 | K4: 160
C5: 4 | D5: 2000 | E5: 680 | F5: 200 | G5: 200 | H5: 240 | I5: 200 | J5: 280 | K5: 200
C6: 5 | D6: 2250 | E6: 770 | F6: 230 | G6: 230 | H6: 270 | I6: 220 | J6: 310 | K6: 220
C7: 6 | D7: 2500 | E7: 850 | F7: 250 | G7: 250 | H7: 300 | I7: 250 | J7: 350 | K7: 250
